BEGIN:VCALENDAR
VERSION:2.0
PRODID:-//CVJM Ofterdingen e. V. - ECPv6.15.18//NONSGML v1.0//EN
CALSCALE:GREGORIAN
METHOD:PUBLISH
X-WR-CALNAME:CVJM Ofterdingen e. V.
X-ORIGINAL-URL:https://www.cvjm-ofterdingen.de/wp01
X-WR-CALDESC:Veranstaltungen für CVJM Ofterdingen e. V.
REFRESH-INTERVAL;VALUE=DURATION:PT1H
X-Robots-Tag:noindex
X-PUBLISHED-TTL:PT1H
BEGIN:VTIMEZONE
TZID:Europe/Berlin
BEGIN:DAYLIGHT
TZOFFSETFROM:+0100
TZOFFSETTO:+0200
TZNAME:CEST
DTSTART:20220327T010000
END:DAYLIGHT
BEGIN:STANDARD
TZOFFSETFROM:+0200
TZOFFSETTO:+0100
TZNAME:CET
DTSTART:20221030T010000
END:STANDARD
BEGIN:DAYLIGHT
TZOFFSETFROM:+0100
TZOFFSETTO:+0200
TZNAME:CEST
DTSTART:20230326T010000
END:DAYLIGHT
BEGIN:STANDARD
TZOFFSETFROM:+0200
TZOFFSETTO:+0100
TZNAME:CET
DTSTART:20231029T010000
END:STANDARD
BEGIN:DAYLIGHT
TZOFFSETFROM:+0100
TZOFFSETTO:+0200
TZNAME:CEST
DTSTART:20240331T010000
END:DAYLIGHT
BEGIN:STANDARD
TZOFFSETFROM:+0200
TZOFFSETTO:+0100
TZNAME:CET
DTSTART:20241027T010000
END:STANDARD
END:VTIMEZONE
BEGIN:VEVENT
DTSTART;TZID=Europe/Berlin:20230924T174500
DTEND;TZID=Europe/Berlin:20230924T193000
DTSTAMP:20260421T202251
CREATED:20230114T141049Z
LAST-MODIFIED:20230911T203124Z
UID:1957-1695577500-1695583800@www.cvjm-ofterdingen.de
SUMMARY:SOS-Gottesdienst - September 2023
DESCRIPTION:Hallo zusammen\, \nder nächste SOS findet am 24.09.2023 um 17:45 Uhr in der Bergkirche in Talheim statt.\nMartin Grauer ist zum Thema „Jesus\, Dein Schicksal – Wilhelm Busch“ unser Gast. \nBist du neugierig geworden? – Wir freuen uns\, wenn du vorbeikommst! Bring gern noch jemand mit! \nBis bald\,\nDein SOS-Team
URL:https://www.cvjm-ofterdingen.de/wp01/event/sos-gottesdienst-2023-september/
LOCATION:Bergkirche Mössingen-Talheim\, Kirchstraße 70\, Mössingen-Talheim\, 72116\, Deutschland
CATEGORIES:Erwachsene,Event,Gottesdienst,Input,Jugendliche,Jugo,Lobpreis,Musik,Teenager,Teens,Worship
ATTACH;FMTTYPE=image/jpeg:https://www.cvjm-ofterdingen.de/wp01/wp-content/uploads/2023/01/SOS_2023_09_24-scaled.jpg
ORGANIZER;CN="CVJM Company":MAILTO:kontakt@sosjugo.de
END:VEVENT
END:VCALENDAR