BEGIN:VCALENDAR
VERSION:2.0
PRODID:-//CVJM Ofterdingen e. V. - ECPv6.15.18//NONSGML v1.0//EN
CALSCALE:GREGORIAN
METHOD:PUBLISH
X-ORIGINAL-URL:https://www.cvjm-ofterdingen.de/wp01
X-WR-CALDESC:Veranstaltungen für CVJM Ofterdingen e. V.
REFRESH-INTERVAL;VALUE=DURATION:PT1H
X-Robots-Tag:noindex
X-PUBLISHED-TTL:PT1H
BEGIN:VTIMEZONE
TZID:Europe/Berlin
BEGIN:DAYLIGHT
TZOFFSETFROM:+0100
TZOFFSETTO:+0200
TZNAME:CEST
DTSTART:20220327T010000
END:DAYLIGHT
BEGIN:STANDARD
TZOFFSETFROM:+0200
TZOFFSETTO:+0100
TZNAME:CET
DTSTART:20221030T010000
END:STANDARD
BEGIN:DAYLIGHT
TZOFFSETFROM:+0100
TZOFFSETTO:+0200
TZNAME:CEST
DTSTART:20230326T010000
END:DAYLIGHT
BEGIN:STANDARD
TZOFFSETFROM:+0200
TZOFFSETTO:+0100
TZNAME:CET
DTSTART:20231029T010000
END:STANDARD
BEGIN:DAYLIGHT
TZOFFSETFROM:+0100
TZOFFSETTO:+0200
TZNAME:CEST
DTSTART:20240331T010000
END:DAYLIGHT
BEGIN:STANDARD
TZOFFSETFROM:+0200
TZOFFSETTO:+0100
TZNAME:CET
DTSTART:20241027T010000
END:STANDARD
END:VTIMEZONE
BEGIN:VEVENT
DTSTART;TZID=Europe/Berlin:20230514T180000
DTEND;TZID=Europe/Berlin:20230514T193000
DTSTAMP:20260422T024830
CREATED:20230114T140521Z
LAST-MODIFIED:20230408T205452Z
UID:1908-1684087200-1684092600@www.cvjm-ofterdingen.de
SUMMARY:SOS-Gottesdienst - Mai 2023
DESCRIPTION:Hallo zusammen\, \nder nächste SOS findet am 14.05.2023 um 18:00 Uhr statt.\nAndrea Knauss\, EJW Freiwilligendienst\, ist als Referentin zum Thema „Schlüsselmomente“ zu Gast. \nBist du neugierig geworden? – Wir freuen uns\, wenn du vorbeikommst! Bring gern noch jemand mit! \nBis bald\,\nDein SOS-Team
URL:https://www.cvjm-ofterdingen.de/wp01/event/sos-gottesdienst-2023-mai/
LOCATION:Martin Luther-Kirche Mössingen\, Goethestraße 1\, Mössingen\, 72116
CATEGORIES:Andacht,Erwachsene,Essen,Essen & Trinken,Event,Familien,Gottesdienst,Input,Jugendliche,Jugo,Lobpreis,Musik,SOS,SOS-Gottesdienst,Teenager,Teens,Worship
ATTACH;FMTTYPE=image/jpeg:https://www.cvjm-ofterdingen.de/wp01/wp-content/uploads/2023/01/2023-05-SOS.jpg
ORGANIZER;CN="CVJM Company":MAILTO:kontakt@sosjugo.de
END:VEVENT
END:VCALENDAR