BEGIN:VCALENDAR
VERSION:2.0
PRODID:-//CVJM Ofterdingen e. V. - ECPv6.15.18//NONSGML v1.0//EN
CALSCALE:GREGORIAN
METHOD:PUBLISH
X-ORIGINAL-URL:https://www.cvjm-ofterdingen.de/wp01
X-WR-CALDESC:Veranstaltungen für CVJM Ofterdingen e. V.
REFRESH-INTERVAL;VALUE=DURATION:PT1H
X-Robots-Tag:noindex
X-PUBLISHED-TTL:PT1H
BEGIN:VTIMEZONE
TZID:Europe/Berlin
BEGIN:DAYLIGHT
TZOFFSETFROM:+0100
TZOFFSETTO:+0200
TZNAME:CEST
DTSTART:20220327T010000
END:DAYLIGHT
BEGIN:STANDARD
TZOFFSETFROM:+0200
TZOFFSETTO:+0100
TZNAME:CET
DTSTART:20221030T010000
END:STANDARD
BEGIN:DAYLIGHT
TZOFFSETFROM:+0100
TZOFFSETTO:+0200
TZNAME:CEST
DTSTART:20230326T010000
END:DAYLIGHT
BEGIN:STANDARD
TZOFFSETFROM:+0200
TZOFFSETTO:+0100
TZNAME:CET
DTSTART:20231029T010000
END:STANDARD
BEGIN:DAYLIGHT
TZOFFSETFROM:+0100
TZOFFSETTO:+0200
TZNAME:CEST
DTSTART:20240331T010000
END:DAYLIGHT
BEGIN:STANDARD
TZOFFSETFROM:+0200
TZOFFSETTO:+0100
TZNAME:CET
DTSTART:20241027T010000
END:STANDARD
END:VTIMEZONE
BEGIN:VEVENT
DTSTART;TZID=Europe/Berlin:20230326T180000
DTEND;TZID=Europe/Berlin:20230326T193000
DTSTAMP:20260422T061047
CREATED:20230114T140426Z
LAST-MODIFIED:20230321T164307Z
UID:1866-1679853600-1679859000@www.cvjm-ofterdingen.de
SUMMARY:SOS-Gottesdienst - März 2023
DESCRIPTION:Hallo zusammen\, \nder nächste SOS findet am 26.03.2023 um 18:00 Uhr in der Mauritiuskirche in Ofterdingen statt.\nDaniel Rempfer\, ev. Jugendwerk Tübingen (EJT)\, ist zu Gast\, das Thema „Ewigkeit“ steht im Mittelpunkt. \nHerzliche Einladung an ALLE\, der SOS ist kein Jugendgottesdienst mehr. \nBist du neugierig geworden? – Wir freuen uns\, wenn du vorbeikommst! Bring gern noch jemand mit! \nBis bald\,\nDein SOS-Team
URL:https://www.cvjm-ofterdingen.de/wp01/event/sos-gottesdienst-2023-maerz/
LOCATION:Mauritiuskirche Ofterdingen\, Kirchstraße 10\, Ofterdingen\, Baden-Württemberg\, 72131\, Deutschland
CATEGORIES:Andacht,Erwachsene,Event,Gottesdienst,Input,Jugendliche,Jugo,Lobpreis,Musik,Teenager,Teens,Worship
ORGANIZER;CN="CVJM Company":MAILTO:kontakt@sosjugo.de
END:VEVENT
END:VCALENDAR