BEGIN:VCALENDAR
VERSION:2.0
PRODID:-//CVJM Ofterdingen e. V. - ECPv6.15.18//NONSGML v1.0//EN
CALSCALE:GREGORIAN
METHOD:PUBLISH
X-ORIGINAL-URL:https://www.cvjm-ofterdingen.de/wp01
X-WR-CALDESC:Veranstaltungen für CVJM Ofterdingen e. V.
REFRESH-INTERVAL;VALUE=DURATION:PT1H
X-Robots-Tag:noindex
X-PUBLISHED-TTL:PT1H
BEGIN:VTIMEZONE
TZID:Europe/Berlin
BEGIN:DAYLIGHT
TZOFFSETFROM:+0100
TZOFFSETTO:+0200
TZNAME:CEST
DTSTART:20210328T010000
END:DAYLIGHT
BEGIN:STANDARD
TZOFFSETFROM:+0200
TZOFFSETTO:+0100
TZNAME:CET
DTSTART:20211031T010000
END:STANDARD
BEGIN:DAYLIGHT
TZOFFSETFROM:+0100
TZOFFSETTO:+0200
TZNAME:CEST
DTSTART:20220327T010000
END:DAYLIGHT
BEGIN:STANDARD
TZOFFSETFROM:+0200
TZOFFSETTO:+0100
TZNAME:CET
DTSTART:20221030T010000
END:STANDARD
BEGIN:DAYLIGHT
TZOFFSETFROM:+0100
TZOFFSETTO:+0200
TZNAME:CEST
DTSTART:20230326T010000
END:DAYLIGHT
BEGIN:STANDARD
TZOFFSETFROM:+0200
TZOFFSETTO:+0100
TZNAME:CET
DTSTART:20231029T010000
END:STANDARD
END:VTIMEZONE
BEGIN:VEVENT
DTSTART;TZID=Europe/Berlin:20220320T174500
DTEND;TZID=Europe/Berlin:20220320T193000
DTSTAMP:20260422T233034
CREATED:20220111T174144Z
LAST-MODIFIED:20221016T140707Z
UID:1583-1647798300-1647804600@www.cvjm-ofterdingen.de
SUMMARY:SOS-Jugendgottesdienst - März 2022
DESCRIPTION:Hallo zusammen\, \nder nächste SOS-Jugo findet am 20. März 2022 um 17:45 Uhr in der Kirche in Belsen statt. Andy Kögl (Jugendreferent CVJM Dettingen an der Erms) ist bei uns zu Gast und es geht um das spannende Thema „Wer bin ich?“. \nKennst du das Spiel „Wer bin ich?“ bei dem man erraten muss was einem auf der Stirn steht? Beim SOS geht es zwar nicht um irgendeinen Künstler oder ähnliches aber es geht um dich\, ja dich ganz persönlich. Wer bist du? Hast du dir diese Frage schon einmal gestellt? Und ich meine nicht\, dass die dich fragen solltest wie du heißt. Die Frage geht tiefer.\nUnd was noch viel tiefer geht\, wer bist du\, wenn du Kind Gottes bist? Wenn Jesus dich perfekt gemacht hat und du für ihn unendlich wertvoll bist? Was macht das mit dir? Welche Identität hast du dann? \nBist du neugierig geworden? – Wir freuen uns\, wenn du vorbeikommst! Bring gern noch jemand mit! \nBis bald\,\nDein SOS-Team \nP.S.: Nähere Infos und aktuelle Änderungen findest du auf Instagram (@sos_jugo) oder hier. \nAufzeichnung vom letzten SOS-Jugo:
URL:https://www.cvjm-ofterdingen.de/wp01/event/sos-jugendgottesdienst-2022-maerz/
LOCATION:Kapelle Belsen (Kirche)\, Max-Duncker-Weg\, Mössingen-Belsen\, Baden-Württemberg\, 72116\, Deutschland
CATEGORIES:Erwachsene,Event,Gottesdienst,Input,Jugendliche,Jugo,Lobpreis,Musik,Teenager,Teens,Worship
ATTACH;FMTTYPE=image/jpeg:https://www.cvjm-ofterdingen.de/wp01/wp-content/uploads/2022/01/SOS-Jugo-am-20-03-22.jpeg
ORGANIZER;CN="CVJM Company":MAILTO:kontakt@sosjugo.de
END:VEVENT
END:VCALENDAR