BEGIN:VCALENDAR
VERSION:2.0
PRODID:-//CVJM Ofterdingen e. V. - ECPv6.15.18//NONSGML v1.0//EN
CALSCALE:GREGORIAN
METHOD:PUBLISH
X-ORIGINAL-URL:https://www.cvjm-ofterdingen.de/wp01
X-WR-CALDESC:Veranstaltungen für CVJM Ofterdingen e. V.
REFRESH-INTERVAL;VALUE=DURATION:PT1H
X-Robots-Tag:noindex
X-PUBLISHED-TTL:PT1H
BEGIN:VTIMEZONE
TZID:Europe/Berlin
BEGIN:DAYLIGHT
TZOFFSETFROM:+0100
TZOFFSETTO:+0200
TZNAME:CEST
DTSTART:20210328T010000
END:DAYLIGHT
BEGIN:STANDARD
TZOFFSETFROM:+0200
TZOFFSETTO:+0100
TZNAME:CET
DTSTART:20211031T010000
END:STANDARD
BEGIN:DAYLIGHT
TZOFFSETFROM:+0100
TZOFFSETTO:+0200
TZNAME:CEST
DTSTART:20220327T010000
END:DAYLIGHT
BEGIN:STANDARD
TZOFFSETFROM:+0200
TZOFFSETTO:+0100
TZNAME:CET
DTSTART:20221030T010000
END:STANDARD
BEGIN:DAYLIGHT
TZOFFSETFROM:+0100
TZOFFSETTO:+0200
TZNAME:CEST
DTSTART:20230326T010000
END:DAYLIGHT
BEGIN:STANDARD
TZOFFSETFROM:+0200
TZOFFSETTO:+0100
TZNAME:CET
DTSTART:20231029T010000
END:STANDARD
END:VTIMEZONE
BEGIN:VEVENT
DTSTART;TZID=Europe/Berlin:20220123T174500
DTEND;TZID=Europe/Berlin:20220123T193000
DTSTAMP:20260423T022219
CREATED:20220111T173354Z
LAST-MODIFIED:20220111T192354Z
UID:1556-1642959900-1642966200@www.cvjm-ofterdingen.de
SUMMARY:SOS-Jugendgottesdienst - Januar 2022
DESCRIPTION:Hallo zusammen\, \nder erste SOS-Jugo in diesem Kalenderjahr findet am 23. Januar 2022 um 17:45 Uhr in der Bergkirche in Talheim statt. Maike Sachs (Dozentin im Bengelhaus) ist bei uns zu Gast und es geht um das spannende Thema „Gott ungezähmt“. \nWasser hat auf der einen Seite Kraft und Schönheit und auf der anderen Seite hat es eine zerstörende Wirkung. Feuer kann wärmen und gleichzeitig zerstören.\nWas sagt die Natur über Gott aus\, wenn sie doch von ihm geschaffen wurde? Wie kann ein guter Gott so eine gewaltsame Welt erschaffen?\nEs geht um Gottes Charakter anhand von dem was er geschaffen hat. Wer ist Gott wirklich? Und was bedeutet es\, mit ihm unterwegs zu sein? \nBist du neugierig geworden? – Wir freuen uns\, wenn du vorbeikommst! Bring gern noch jemand mit! \nBis bald\,\nDein SOS-Team \nP.S.: Nähere Infos und aktuelle Änderungen findest du auf Instagram (@sos_jugo) oder hier.
URL:https://www.cvjm-ofterdingen.de/wp01/event/sos-jugendgottesdienst-2022-januar/
LOCATION:Bergkirche Mössingen-Talheim\, Kirchstraße 70\, Mössingen-Talheim\, 72116\, Deutschland
CATEGORIES:Erwachsene,Event,Gottesdienst,Input,Jugendliche,Jugo,Lobpreis,Musik,Teenager,Teens,Worship
ATTACH;FMTTYPE=image/jpeg:https://www.cvjm-ofterdingen.de/wp01/wp-content/uploads/2022/01/2022-01_Januar.jpeg
ORGANIZER;CN="CVJM Company":MAILTO:kontakt@sosjugo.de
END:VEVENT
END:VCALENDAR