BEGIN:VCALENDAR
VERSION:2.0
PRODID:-//CVJM Ofterdingen e. V. - ECPv6.15.18//NONSGML v1.0//EN
CALSCALE:GREGORIAN
METHOD:PUBLISH
X-WR-CALNAME:CVJM Ofterdingen e. V.
X-ORIGINAL-URL:https://www.cvjm-ofterdingen.de/wp01
X-WR-CALDESC:Veranstaltungen für CVJM Ofterdingen e. V.
REFRESH-INTERVAL;VALUE=DURATION:PT1H
X-Robots-Tag:noindex
X-PUBLISHED-TTL:PT1H
BEGIN:VTIMEZONE
TZID:Europe/Berlin
BEGIN:DAYLIGHT
TZOFFSETFROM:+0100
TZOFFSETTO:+0200
TZNAME:CEST
DTSTART:20200329T010000
END:DAYLIGHT
BEGIN:STANDARD
TZOFFSETFROM:+0200
TZOFFSETTO:+0100
TZNAME:CET
DTSTART:20201025T010000
END:STANDARD
BEGIN:DAYLIGHT
TZOFFSETFROM:+0100
TZOFFSETTO:+0200
TZNAME:CEST
DTSTART:20210328T010000
END:DAYLIGHT
BEGIN:STANDARD
TZOFFSETFROM:+0200
TZOFFSETTO:+0100
TZNAME:CET
DTSTART:20211031T010000
END:STANDARD
BEGIN:DAYLIGHT
TZOFFSETFROM:+0100
TZOFFSETTO:+0200
TZNAME:CEST
DTSTART:20220327T010000
END:DAYLIGHT
BEGIN:STANDARD
TZOFFSETFROM:+0200
TZOFFSETTO:+0100
TZNAME:CET
DTSTART:20221030T010000
END:STANDARD
END:VTIMEZONE
BEGIN:VEVENT
DTSTART;TZID=Europe/Berlin:20210704T180000
DTEND;TZID=Europe/Berlin:20210704T193000
DTSTAMP:20260423T115045
CREATED:20201229T173024Z
LAST-MODIFIED:20210702T093205Z
UID:1383-1625421600-1625427000@www.cvjm-ofterdingen.de
SUMMARY:SOS-Jugendgottesdienst - Juli 2021
DESCRIPTION:Hallo zusammen\, \nder nächste SOS-Jugo findet am 04. Juli um 18 Uhr wegen Schlechtwetter in der Kirche in Öschingen zusammen mit dem iT.Service statt. Wir halten uns an das bewährte Hygienekonzept vor Ort. Ihr könnt also gerne und unbesorgt kommen. \nWer dennoch nicht kommen mag: Das Technik-Team des iT.Service wird den Jugo per Livestream übertragen. Hinweise/die Übertragung findest du bei den Social-Media-Profilen des iT-Service Jugendgottesdienstes aus Öschingen. \nGideon Maier ist zu Gast und es geht um das Thema „Wozu das alles?“. \nNein\, die Stimmung soll nicht depressiv werden\, die Absicht ist genau das Gegenteil: Mut\, freudige Erwartung\, ein klarer\, schöner Ausblick! Mögliche Fragen könnten sein: Warum rackern wir uns heute eigentlich so ab? Wofür lernen\, arbeiten und schuften wir? Wie ist das „am Ende“: Kommen wir nicht alle in den Himmel? Oder doch in die Hölle? Oder ein großes „Nirvana“? Entscheiden unsere Taten? Entscheiden wir das selbst? Werden wegen „sola gratia“ (alleine durch Gnade\, wie Luther gesagt hat) nicht sowieso alle Menschen gerettet? Vielleicht gibt’s die Möglichkeit bzw. die eine oder andere Vertiefung für besonders tiefgründige Fragen. \nKomm vorbei und wenn du magst\, bring noch jemanden mit! \nWir freuen uns auf Dich! \nBis bald\,\neuer SOS-Team & iT-Team \nPS: Eventuell kurzfristige Änderungen findest du direkt hier.
URL:https://www.cvjm-ofterdingen.de/wp01/event/sos-jugendgottesdienst-juli-2021/
LOCATION:Martinskirche Öschingen\, Moserstraße 2\, Mössingen-Öschingen\, 72116
CATEGORIES:CVJM Landesverband e. V.,Erwachsene,Event,Gottesdienst,Input,Jugendliche,Jugo,Lobpreis,Musik,Teenager,Teens,Worship
ATTACH;FMTTYPE=image/jpeg:https://www.cvjm-ofterdingen.de/wp01/wp-content/uploads/2020/12/04_g-3.jpg
ORGANIZER;CN="CVJM Company":MAILTO:kontakt@sosjugo.de
END:VEVENT
END:VCALENDAR