BEGIN:VCALENDAR
VERSION:2.0
PRODID:-//CVJM Ofterdingen e. V. - ECPv6.15.18//NONSGML v1.0//EN
CALSCALE:GREGORIAN
METHOD:PUBLISH
X-WR-CALNAME:CVJM Ofterdingen e. V.
X-ORIGINAL-URL:https://www.cvjm-ofterdingen.de/wp01
X-WR-CALDESC:Veranstaltungen für CVJM Ofterdingen e. V.
REFRESH-INTERVAL;VALUE=DURATION:PT1H
X-Robots-Tag:noindex
X-PUBLISHED-TTL:PT1H
BEGIN:VTIMEZONE
TZID:Europe/Berlin
BEGIN:DAYLIGHT
TZOFFSETFROM:+0100
TZOFFSETTO:+0200
TZNAME:CEST
DTSTART:20200329T010000
END:DAYLIGHT
BEGIN:STANDARD
TZOFFSETFROM:+0200
TZOFFSETTO:+0100
TZNAME:CET
DTSTART:20201025T010000
END:STANDARD
BEGIN:DAYLIGHT
TZOFFSETFROM:+0100
TZOFFSETTO:+0200
TZNAME:CEST
DTSTART:20210328T010000
END:DAYLIGHT
BEGIN:STANDARD
TZOFFSETFROM:+0200
TZOFFSETTO:+0100
TZNAME:CET
DTSTART:20211031T010000
END:STANDARD
BEGIN:DAYLIGHT
TZOFFSETFROM:+0100
TZOFFSETTO:+0200
TZNAME:CEST
DTSTART:20220327T010000
END:DAYLIGHT
BEGIN:STANDARD
TZOFFSETFROM:+0200
TZOFFSETTO:+0100
TZNAME:CET
DTSTART:20221030T010000
END:STANDARD
END:VTIMEZONE
BEGIN:VEVENT
DTSTART;TZID=Europe/Berlin:20210509T180000
DTEND;TZID=Europe/Berlin:20210509T193000
DTSTAMP:20260423T144112
CREATED:20201229T172803Z
LAST-MODIFIED:20210507T095624Z
UID:1363-1620583200-1620588600@www.cvjm-ofterdingen.de
SUMMARY:SOS-Jugendgottesdienst - Mai 2021
DESCRIPTION:Hallo zusammen\, \nder nächsten SOS-Jugo feiern wir am 9. Mai um 18 Uhr auf dem CVJM-Platz in Talheim (ca. 200 m oberhalb der Kirche) open air. \nBitte eine Maske tragen und am Eingang die Adresse angeben (Hygiene-Konzept!) \nMaximilian Mohnfeld (Jugendreferent des EJW) ist zu Gast und es geht um das Thema „money talks“. \nDas mit dem Geld ist ja so eine Sache: Bei manchen ist am Ende des Geldes noch viel Monat über\, andere wissen nicht so recht wohin damit. Beides ist nix. Worin investierst du dein Geld? Worin nicht? Was davon hält sich lange\, ist also eine Investition in die Zukunft? Was ist eher ein kurzer\, aber vielleicht besonders unterhaltsamer Spaß? Geht das überhaupt? Also gibt’s da als Christ irgendetwas zu „beachten“? Und nein\, es soll nicht um „den Zehnten“ gehen. Lass dich überraschen! \nKomm vorbei und wenn du magst\, bring noch jemanden mit! \nWir freuen uns auf Dich! \nBis bald\,\neuer SOS-Team \nPS: Eventuell kurzfristige Änderungen findest du direkt hier.
URL:https://www.cvjm-ofterdingen.de/wp01/event/sos-jugendgottesdienst-mai-2021/
LOCATION:CVJM-Gelände Talheim\, Kirchstraße 58\, Mössingen-Talheim\, 72116
CATEGORIES:CVJM Landesverband e. V.,Erwachsene,Event,Gottesdienst,Input,Jugendliche,Jugo,Lobpreis,Musik,Teenager,Teens,Worship
ATTACH;FMTTYPE=image/jpeg:https://www.cvjm-ofterdingen.de/wp01/wp-content/uploads/2020/12/03_g-2.jpg
ORGANIZER;CN="CVJM Company":MAILTO:kontakt@sosjugo.de
END:VEVENT
END:VCALENDAR