BEGIN:VCALENDAR
VERSION:2.0
PRODID:-//CVJM Ofterdingen e. V. - ECPv6.15.18//NONSGML v1.0//EN
CALSCALE:GREGORIAN
METHOD:PUBLISH
X-WR-CALNAME:CVJM Ofterdingen e. V.
X-ORIGINAL-URL:https://www.cvjm-ofterdingen.de/wp01
X-WR-CALDESC:Veranstaltungen für CVJM Ofterdingen e. V.
REFRESH-INTERVAL;VALUE=DURATION:PT1H
X-Robots-Tag:noindex
X-PUBLISHED-TTL:PT1H
BEGIN:VTIMEZONE
TZID:Europe/Berlin
BEGIN:DAYLIGHT
TZOFFSETFROM:+0100
TZOFFSETTO:+0200
TZNAME:CEST
DTSTART:20190331T010000
END:DAYLIGHT
BEGIN:STANDARD
TZOFFSETFROM:+0200
TZOFFSETTO:+0100
TZNAME:CET
DTSTART:20191027T010000
END:STANDARD
BEGIN:DAYLIGHT
TZOFFSETFROM:+0100
TZOFFSETTO:+0200
TZNAME:CEST
DTSTART:20200329T010000
END:DAYLIGHT
BEGIN:STANDARD
TZOFFSETFROM:+0200
TZOFFSETTO:+0100
TZNAME:CET
DTSTART:20201025T010000
END:STANDARD
BEGIN:DAYLIGHT
TZOFFSETFROM:+0100
TZOFFSETTO:+0200
TZNAME:CEST
DTSTART:20210328T010000
END:DAYLIGHT
BEGIN:STANDARD
TZOFFSETFROM:+0200
TZOFFSETTO:+0100
TZNAME:CET
DTSTART:20211031T010000
END:STANDARD
END:VTIMEZONE
BEGIN:VEVENT
DTSTART;TZID=Europe/Berlin:20200524T180000
DTEND;TZID=Europe/Berlin:20200524T193000
DTSTAMP:20260424T074914
CREATED:20191220T195509Z
LAST-MODIFIED:20200521T202355Z
UID:1100-1590343200-1590348600@www.cvjm-ofterdingen.de
SUMMARY:SOS-Jugendgottesdienst - Mai 2020
DESCRIPTION:Hallo zusammen\, \nder nächste SOS-Jugo findet am 24. Mai um 18 Uhr als Live-Stream statt: kurzelinks.de/sosjugo\nDieter Braun (Jugendreferent und fachlicher Leiter des EJW) ist zu Gast und es geht um das Thema „Schwamm drüber“. \nManche Sachen muss ja nicht jeder Wissen\, sowieso muss nicht alles an „die große Glocke gehangen“ werden. Manches lasse ich unter den Tisch fallen oder vertusche das mal ein bisschen. Und wenn’s mal ordentlich gekracht hat\, dann „Schwamm drüber“\, das wird schon wieder! Fehler macht ja jeder mal\, also was soll’s? \nWas ist der Unterschied zwischen Vergebung und Versöhnung? Einfach mal die Friedenspfeife rauchen\, dann läuft’s wieder – wie bei den Indianern?! Wie kann ich jemandem vergeben\, der mich so richtig verletzt hat\, der mir etwas angetan hat\, das nicht mehr gut wird\, das sich nicht rückgängig machen lässt?! … \nKlick dich rein (kurzelinks.de/sosjugo) und sei ein Teil des SOS-Gottesdienstes!\nDie Predigt lebt vom Dialog: Es gibt die Möglichkeit\, über die Chatfunktion Fragen zu stellen\, auf die Dieter live antworten wird. Alles was du dafür brauchst ist ein Google-Konto (Login für YouTube). \nWir freuen uns auf Dich! \nBis bald\,\neuer SOS-Team \nPS: Nähere Infos und eventuelle kurzfristige Änderungen findest du direkt unter www.sosjugo.de.
URL:https://www.cvjm-ofterdingen.de/wp01/event/sos-jugendgottesdienst-mai-2020/
CATEGORIES:CVJM Landesverband e. V.,Erwachsene,Essen,Essen & Trinken,Gottesdienst,Input,Jugendliche,Lobpreis,Musik,Teenager,Teens,Worship
ATTACH;FMTTYPE=image/jpeg:https://www.cvjm-ofterdingen.de/wp01/wp-content/uploads/2019/12/03_a_vorne.jpg
ORGANIZER;CN="CVJM Company":MAILTO:kontakt@sosjugo.de
END:VEVENT
END:VCALENDAR