BEGIN:VCALENDAR
VERSION:2.0
PRODID:-//CVJM Ofterdingen e. V. - ECPv6.15.18//NONSGML v1.0//EN
CALSCALE:GREGORIAN
METHOD:PUBLISH
X-WR-CALNAME:CVJM Ofterdingen e. V.
X-ORIGINAL-URL:https://www.cvjm-ofterdingen.de/wp01
X-WR-CALDESC:Veranstaltungen für CVJM Ofterdingen e. V.
REFRESH-INTERVAL;VALUE=DURATION:PT1H
X-Robots-Tag:noindex
X-PUBLISHED-TTL:PT1H
BEGIN:VTIMEZONE
TZID:Europe/Berlin
BEGIN:DAYLIGHT
TZOFFSETFROM:+0100
TZOFFSETTO:+0200
TZNAME:CEST
DTSTART:20190331T010000
END:DAYLIGHT
BEGIN:STANDARD
TZOFFSETFROM:+0200
TZOFFSETTO:+0100
TZNAME:CET
DTSTART:20191027T010000
END:STANDARD
BEGIN:DAYLIGHT
TZOFFSETFROM:+0100
TZOFFSETTO:+0200
TZNAME:CEST
DTSTART:20200329T010000
END:DAYLIGHT
BEGIN:STANDARD
TZOFFSETFROM:+0200
TZOFFSETTO:+0100
TZNAME:CET
DTSTART:20201025T010000
END:STANDARD
BEGIN:DAYLIGHT
TZOFFSETFROM:+0100
TZOFFSETTO:+0200
TZNAME:CEST
DTSTART:20210328T010000
END:DAYLIGHT
BEGIN:STANDARD
TZOFFSETFROM:+0200
TZOFFSETTO:+0100
TZNAME:CET
DTSTART:20211031T010000
END:STANDARD
END:VTIMEZONE
BEGIN:VEVENT
DTSTART;TZID=Europe/Berlin:20200126T180000
DTEND;TZID=Europe/Berlin:20200126T193000
DTSTAMP:20260424T131649
CREATED:20191220T194519Z
LAST-MODIFIED:20191220T194519Z
UID:1078-1580061600-1580067000@www.cvjm-ofterdingen.de
SUMMARY:SOS-Jugendgottesdienst - Januar 2020
DESCRIPTION:Hallo zusammen\, \nder erste SOS-Jugo im neuen Jahr findet am 26. Januar um 18 Uhr in der Johanneskirche in Bästenhardt statt. Hanns Wolfsberger (Pfarrer und früher BOLA-Leitung) ist zu Gast und es geht um das Thema „(Der Herr ist mein Hirte) Mir wird nichts mangeln“. \nDieser Beginn von Psalm 23 ist sehr bekannt\, vermutlich kennst du ihn auch. Falls nicht\, kein Problem! \nOft wird uns einerseits vorgemacht\, dass wir uns in einer super Zeit befinden: Genug zu Essen und Trinken\, ein Dach über dem Kopf\, ein paar Freunde hier\, Familie da. Sich ab und zu etwas gönnen\, meist gesund sein\, … Gleichzeitig fühlen wir uns oft nicht so genial\, haben das Gefühl\, dass uns etwas fehlt. Manchmal fehlt uns ja auch wirklich etwas: Wir sind krank\, jemand hat uns verlassen\, etwas lief ordentlich schief\, wir haben etwas gesehen\, das uns schockiert (z. B. Umwelt\, Mitmenschen\, Krieg\, …). \nWas meint der Schreiber des Psalms denn damit\, dass uns nichts mangeln würde?! Hat er vielleicht etwas zu viel versprochen oder einfach nicht genau genug nachgedacht?! \nKomm vorbei und wenn du magst\, bring noch jemanden mit! Nach dem Godi gibt’s natürlich noch einen Imbiss und Zeit\, um gemütlich zu quatschen. \nWir freuen uns auf Dich! \nBis bald\,\neuer SOS-Team \nPS: Nähere Infos & Anfahrt findest du direkt unter www.sosjugo.de.
URL:https://www.cvjm-ofterdingen.de/wp01/event/sos-jugendgottesdienst-januar-2020/
LOCATION:Johanneskirche Bästenhardt\, Birkenstraße 45\, Mössingen\, 72116\, Deutschland
CATEGORIES:CVJM Landesverband e. V.,Erwachsene,Essen,Essen & Trinken,Gottesdienst,Input,Jugendliche,Lobpreis,Musik,Teenager,Teens,Worship
ATTACH;FMTTYPE=image/jpeg:https://www.cvjm-ofterdingen.de/wp01/wp-content/uploads/2019/12/01_g.jpg
ORGANIZER;CN="CVJM Company":MAILTO:kontakt@sosjugo.de
END:VEVENT
END:VCALENDAR