BEGIN:VCALENDAR
VERSION:2.0
PRODID:-//CVJM Ofterdingen e. V. - ECPv6.15.18//NONSGML v1.0//EN
CALSCALE:GREGORIAN
METHOD:PUBLISH
X-ORIGINAL-URL:https://www.cvjm-ofterdingen.de/wp01
X-WR-CALDESC:Veranstaltungen für CVJM Ofterdingen e. V.
REFRESH-INTERVAL;VALUE=DURATION:PT1H
X-Robots-Tag:noindex
X-PUBLISHED-TTL:PT1H
BEGIN:VTIMEZONE
TZID:Europe/Berlin
BEGIN:DAYLIGHT
TZOFFSETFROM:+0100
TZOFFSETTO:+0200
TZNAME:CEST
DTSTART:20180325T010000
END:DAYLIGHT
BEGIN:STANDARD
TZOFFSETFROM:+0200
TZOFFSETTO:+0100
TZNAME:CET
DTSTART:20181028T010000
END:STANDARD
BEGIN:DAYLIGHT
TZOFFSETFROM:+0100
TZOFFSETTO:+0200
TZNAME:CEST
DTSTART:20190331T010000
END:DAYLIGHT
BEGIN:STANDARD
TZOFFSETFROM:+0200
TZOFFSETTO:+0100
TZNAME:CET
DTSTART:20191027T010000
END:STANDARD
BEGIN:DAYLIGHT
TZOFFSETFROM:+0100
TZOFFSETTO:+0200
TZNAME:CEST
DTSTART:20200329T010000
END:DAYLIGHT
BEGIN:STANDARD
TZOFFSETFROM:+0200
TZOFFSETTO:+0100
TZNAME:CET
DTSTART:20201025T010000
END:STANDARD
END:VTIMEZONE
BEGIN:VEVENT
DTSTART;TZID=Europe/Berlin:20191124T180000
DTEND;TZID=Europe/Berlin:20191124T193000
DTSTAMP:20260424T160118
CREATED:20181013T180351Z
LAST-MODIFIED:20181017T183959Z
UID:852-1574618400-1574623800@www.cvjm-ofterdingen.de
SUMMARY:SOS-Jugendgottesdienst - November 2019
DESCRIPTION:Hallo zusammen\, \nder nächste SOS-Jugo findet am 24. November um 18 Uhr in der Martin Luther-Kirche (MLK) in Mössingen statt. Aleko Vangelis und SoulDevotion Music sind zu Gast und wir feiern die große Jubiläums-Party „20 Jahre SOS – SaveOurSouls“. \nVor 20 Jahren begann alles mit einem großen Festival in Mössingen – heute feiern wir mit dir den Jubiläums-Gottesdienst! Jesus war bei vielen Festen (z. B. Hochzeit zu Kanaa) und Festessen (z. B. bei Zachhäus) mit am Start. Etwa 100 Jugos und Events durften wir bereits in seinem Namen feiern.\nIm Wort GottesDIENST steckt ja auch das Wort dienen. Dienen ist eigentlich ziemlich uncool. Wer dient beim SOS-Jugo eigentlich wem? Wozu feiern wir Gottesdienst? Und was steckt eigentlich hinter dem „SOS“?! \nSoulDevotion Music ist eine christliche Band\, die Gott liebt und durch ihre Musik zusammen mit uns Gott begegnen möchte. Sie sind auf kleinen und sehr großen Bühnen zu Hause\, schreiben selbst Texte und Melodien\, die aus tiefstem Herzen kommen und unsere Herzen berühren. (Homepage von SoulDevotion Music) \nKomm vorbei und wenn du magst\, bring noch jemanden mit! Nach dem Godi gibt’s natürlich noch einen Imbiss und Zeit\, um gemütlich zu quatschen. \nWir freuen uns auf Dich! \nBis bald\,\neuer SOS-Team \nPS: Nähere Infos & Anfahrt findest du direkt unter www.sosjugo.de.
URL:https://www.cvjm-ofterdingen.de/wp01/event/sos-jugendgottesdienst-november-2019/
LOCATION:Martin Luther-Kirche Mössingen\, Goethestraße 1\, Mössingen\, 72116
CATEGORIES:CVJM Landesverband e. V.,Erwachsene,Essen,Essen & Trinken,Gottesdienst,Input,Jugendliche,Lobpreis,Musik,Teenager,Teens,Worship
ATTACH;FMTTYPE=image/jpeg:https://www.cvjm-ofterdingen.de/wp01/wp-content/uploads/2018/10/06_g.jpg
ORGANIZER;CN="CVJM Company":MAILTO:kontakt@sosjugo.de
END:VEVENT
END:VCALENDAR