BEGIN:VCALENDAR
VERSION:2.0
PRODID:-//CVJM Ofterdingen e. V. - ECPv6.15.18//NONSGML v1.0//EN
CALSCALE:GREGORIAN
METHOD:PUBLISH
X-ORIGINAL-URL:https://www.cvjm-ofterdingen.de/wp01
X-WR-CALDESC:Veranstaltungen für CVJM Ofterdingen e. V.
REFRESH-INTERVAL;VALUE=DURATION:PT1H
X-Robots-Tag:noindex
X-PUBLISHED-TTL:PT1H
BEGIN:VTIMEZONE
TZID:Europe/Berlin
BEGIN:DAYLIGHT
TZOFFSETFROM:+0100
TZOFFSETTO:+0200
TZNAME:CEST
DTSTART:20180325T010000
END:DAYLIGHT
BEGIN:STANDARD
TZOFFSETFROM:+0200
TZOFFSETTO:+0100
TZNAME:CET
DTSTART:20181028T010000
END:STANDARD
BEGIN:DAYLIGHT
TZOFFSETFROM:+0100
TZOFFSETTO:+0200
TZNAME:CEST
DTSTART:20190331T010000
END:DAYLIGHT
BEGIN:STANDARD
TZOFFSETFROM:+0200
TZOFFSETTO:+0100
TZNAME:CET
DTSTART:20191027T010000
END:STANDARD
BEGIN:DAYLIGHT
TZOFFSETFROM:+0100
TZOFFSETTO:+0200
TZNAME:CEST
DTSTART:20200329T010000
END:DAYLIGHT
BEGIN:STANDARD
TZOFFSETFROM:+0200
TZOFFSETTO:+0100
TZNAME:CET
DTSTART:20201025T010000
END:STANDARD
END:VTIMEZONE
BEGIN:VEVENT
DTSTART;TZID=Europe/Berlin:20190929T180000
DTEND;TZID=Europe/Berlin:20190929T193000
DTSTAMP:20260424T184119
CREATED:20181013T180014Z
LAST-MODIFIED:20181013T180431Z
UID:843-1569780000-1569785400@www.cvjm-ofterdingen.de
SUMMARY:SOS-Jugendgottesdienst - September 2019
DESCRIPTION:Hallo zusammen\, \nder nächste SOS-Jugo findet am 29. September um 18 Uhr in der Bergkirche in Talheim statt. Andreas Altstädt ist zu Gast und es geht um das Thema „Tut der Herr auch heute noch Wunder?“. \nWir hören im Radio ja immer wieder Lieder\, um denen es um Wunder geht und ob es die heute noch gibt und dass man daran glauben soll. Heute schauen wir da mal etwas genauer hin. Sind das alles nur Stories\, oder steckt etwas dahinter? In der Bibel ist ja auch von Wundern zu lesen – aber das ist ja etwa 2000 Jahre her. Wie schaut das heute aus?! Außerdem lassen sich manche vermeintliche Wunder wissenschaftlich erklären – anderes wiederum ist eindeutig passiert und kein Wissenschaftler oder kein Arzt kann es nachvollziehen. Dann reden sie auch von Wundern.\nWas können wir eigentlich von Gott erwarten? Gott hat ja große Macht; also können wir mit Wundern rechnen? \nAndreas Altstädt war nach dem Schulabschluss auf großer Reise unterwegs und hat dabei viel erlebt. Das eine oder andere Erlebnis wird sich bestimmt auch in der Predigt wiederfinden. \nKomm vorbei und wenn du magst\, bring noch jemanden mit! Nach dem Godi gibt’s natürlich noch einen Imbiss und Zeit\, um gemütlich zu quatschen. \nWir freuen uns auf Dich! \nBis bald\,\neuer SOS-Team \nPS: Nähere Infos & Anfahrt findest du direkt unter www.sosjugo.de.
URL:https://www.cvjm-ofterdingen.de/wp01/event/sos-jugendgottesdienst-september-2019/
LOCATION:Bergkirche Mössingen-Talheim\, Kirchstraße 70\, Mössingen-Talheim\, 72116\, Deutschland
CATEGORIES:CVJM Landesverband e. V.,Erwachsene,Essen,Essen & Trinken,Gottesdienst,Input,Jugendliche,Lobpreis,Musik,Teenager,Teens,Worship
ATTACH;FMTTYPE=image/jpeg:https://www.cvjm-ofterdingen.de/wp01/wp-content/uploads/2018/10/05_g.jpg
ORGANIZER;CN="CVJM Company":MAILTO:kontakt@sosjugo.de
END:VEVENT
END:VCALENDAR