BEGIN:VCALENDAR
VERSION:2.0
PRODID:-//CVJM Ofterdingen e. V. - ECPv6.15.18//NONSGML v1.0//EN
CALSCALE:GREGORIAN
METHOD:PUBLISH
X-WR-CALNAME:CVJM Ofterdingen e. V.
X-ORIGINAL-URL:https://www.cvjm-ofterdingen.de/wp01
X-WR-CALDESC:Veranstaltungen für CVJM Ofterdingen e. V.
REFRESH-INTERVAL;VALUE=DURATION:PT1H
X-Robots-Tag:noindex
X-PUBLISHED-TTL:PT1H
BEGIN:VTIMEZONE
TZID:Europe/Berlin
BEGIN:DAYLIGHT
TZOFFSETFROM:+0100
TZOFFSETTO:+0200
TZNAME:CEST
DTSTART:20170326T010000
END:DAYLIGHT
BEGIN:STANDARD
TZOFFSETFROM:+0200
TZOFFSETTO:+0100
TZNAME:CET
DTSTART:20171029T010000
END:STANDARD
BEGIN:DAYLIGHT
TZOFFSETFROM:+0100
TZOFFSETTO:+0200
TZNAME:CEST
DTSTART:20180325T010000
END:DAYLIGHT
BEGIN:STANDARD
TZOFFSETFROM:+0200
TZOFFSETTO:+0100
TZNAME:CET
DTSTART:20181028T010000
END:STANDARD
BEGIN:DAYLIGHT
TZOFFSETFROM:+0100
TZOFFSETTO:+0200
TZNAME:CEST
DTSTART:20190331T010000
END:DAYLIGHT
BEGIN:STANDARD
TZOFFSETFROM:+0200
TZOFFSETTO:+0100
TZNAME:CET
DTSTART:20191027T010000
END:STANDARD
END:VTIMEZONE
BEGIN:VEVENT
DTSTART;TZID=Europe/Berlin:20180513T180000
DTEND;TZID=Europe/Berlin:20180513T193000
DTSTAMP:20260425T172821
CREATED:20180106T191608Z
LAST-MODIFIED:20180106T191608Z
UID:421-1526234400-1526239800@www.cvjm-ofterdingen.de
SUMMARY:SOS-Jugendgottesdienst - Mai 2018
DESCRIPTION:Hallo zusammen\, \nder nächste SOS-Jugo findet am 13. Mai um 18 Uhr in der Johanneskirche in Bästenhardt statt. Benedikt Schweizer ist zu Gast und es geht um das Thema „Bibel-Update 2.0“. \nKann man das\, was in der Bibel steht\, heute noch alles glauben? Gilt das denn noch? Hat die Bibel nach so vielen Jahren ein Update nötig? Was von der Bibel kann ich auf mein Leben übernehmen – und was nicht? Kann oder muss man das denn so streng/eng sehen\, wie es in der Bibel steht? Manche Menschen nehmen ja die Bibel als Richtlinie für ihr Leben – macht das Sinn\, oder übertreiben die einfach ein bisschen? \nKomm vorbei und feiere diesen Jugo mit uns. Nach dem Godi gibt’s natürlich noch einen Imbiss und Zeit\, um gemütlich zu quatschen. \nWir freuen uns auf Dich! \nBis bald\,\neuer SOS-Team \nPS: Nähere Infos & Anfahrt findest du direkt unter www.sosjugo.de.
URL:https://www.cvjm-ofterdingen.de/wp01/event/sos-jugendgottesdienst-dezember-2017-4/
CATEGORIES:Essen,Essen & Trinken,Gottesdienst,Input,Jugendliche,Lobpreis,Musik,Teenager,Teens,Worship
ATTACH;FMTTYPE=:
ORGANIZER;CN="CVJM Company":MAILTO:kontakt@sosjugo.de
END:VEVENT
END:VCALENDAR