BEGIN:VCALENDAR
VERSION:2.0
PRODID:-//CVJM Ofterdingen e. V. - ECPv6.15.18//NONSGML v1.0//EN
CALSCALE:GREGORIAN
METHOD:PUBLISH
X-WR-CALNAME:CVJM Ofterdingen e. V.
X-ORIGINAL-URL:https://www.cvjm-ofterdingen.de/wp01
X-WR-CALDESC:Veranstaltungen für CVJM Ofterdingen e. V.
REFRESH-INTERVAL;VALUE=DURATION:PT1H
X-Robots-Tag:noindex
X-PUBLISHED-TTL:PT1H
BEGIN:VTIMEZONE
TZID:Europe/Berlin
BEGIN:DAYLIGHT
TZOFFSETFROM:+0100
TZOFFSETTO:+0200
TZNAME:CEST
DTSTART:20170326T010000
END:DAYLIGHT
BEGIN:STANDARD
TZOFFSETFROM:+0200
TZOFFSETTO:+0100
TZNAME:CET
DTSTART:20171029T010000
END:STANDARD
BEGIN:DAYLIGHT
TZOFFSETFROM:+0100
TZOFFSETTO:+0200
TZNAME:CEST
DTSTART:20180325T010000
END:DAYLIGHT
BEGIN:STANDARD
TZOFFSETFROM:+0200
TZOFFSETTO:+0100
TZNAME:CET
DTSTART:20181028T010000
END:STANDARD
BEGIN:DAYLIGHT
TZOFFSETFROM:+0100
TZOFFSETTO:+0200
TZNAME:CEST
DTSTART:20190331T010000
END:DAYLIGHT
BEGIN:STANDARD
TZOFFSETFROM:+0200
TZOFFSETTO:+0100
TZNAME:CET
DTSTART:20191027T010000
END:STANDARD
END:VTIMEZONE
BEGIN:VEVENT
DTSTART;TZID=Europe/Berlin:20180303T153000
DTEND;TZID=Europe/Berlin:20180304T153000
DTSTAMP:20260425T201724
CREATED:20180106T193855Z
LAST-MODIFIED:20180106T193855Z
UID:441-1520091000-1520177400@www.cvjm-ofterdingen.de
SUMMARY:CVJM-Landestreffen 2018
DESCRIPTION:Herzliche Einladung zum CVJM-Landestreffen in den Glaspalast nach Sindelfingen! \nDer Samstag (3. März) steht ganz im Zeichen der Jugend und jungen Erwachsenen: \n\nGott erleben. Glauben feiern. Freunde treffen.\nAuftakt mit Bibel live mit Dina Ketzer und der Band OuttakeMovement.\nUltimativer CVJM Human Soccer Cup\, parallel dazu: CVJM Markt\, Aerotrimm\, Snacks & Drinks\, Café-Zeit\nNacht-Gottesdienst mit Dina Ketzer und der Band OuttakeMovement.\nNachtschwärmercafé mit Live-Musik von Melody against Gravity.\n\nAm Sonntag (4. März) stehen Familien im Vordergrund: \n\nCafé-Lounge\nActivity\, Café-Lounge & „On Ear“\nFamiliengottesdienst mit Picknick (bring eines selbst mit oder kaufe ein Lunchpaket vor Ort)\nFamilien-Mitmach-Konzert mit Mike Müllerbauer\n\nNähere Infos findest du direkt unter www.cvjm-landestreffen.de. \nWir freuen uns auf dich!\nDein CVJM-Team
URL:https://www.cvjm-ofterdingen.de/wp01/event/sos-jugendgottesdienst-oktober-2017-2/
LOCATION:Glaspalast Sindelfingen
CATEGORIES:CVJM Landesverband e. V.,Erwachsene,Essen,Essen & Trinken,Familien,Gottesdienst,Input,Jugendliche,Kids,Kinder,Lobpreis,Musik,Teenager,Teens,Worship
ATTACH;FMTTYPE=:
END:VEVENT
BEGIN:VEVENT
DTSTART;TZID=Europe/Berlin:20180311T180000
DTEND;TZID=Europe/Berlin:20180311T193000
DTSTAMP:20260425T201724
CREATED:20180106T191422Z
LAST-MODIFIED:20180106T191422Z
UID:423-1520791200-1520796600@www.cvjm-ofterdingen.de
SUMMARY:SOS-Jugendgottesdienst - März 2018
DESCRIPTION:Hallo zusammen\, \nder nächste SOS-Jugo findet am 11. März um 18 Uhr im Gemeindehaus in Belsen statt. Gideon Maier ist zu Gast und es geht um das Thema „Bist du safe?“. \nWeißt du\, ob du in den Himmel kommst? Was entscheidet darüber? Hat unser jetziges Leben Auswirkungen auf das\, was nach dem Tod kommt? Apropos: Gibt es überhaupt ein Leben nach dem Tod? Kann man sich sicher sein\, in den Himmel zu kommen\, oder bleibt das unsicher? Gibt es „Bedingungen“\, die man dafür erfüllen muss? \nKomm vorbei und feiere mit uns diesen Jugo kurz vor Ostern. Nach dem Godi gibt’s natürlich noch einen Imbiss und Zeit\, um gemütlich zu quatschen. \nWir freuen uns auf Dich! \nBis bald\,\neuer SOS-Team \nPS: Nähere Infos & Anfahrt findest du direkt unter www.sosjugo.de.
URL:https://www.cvjm-ofterdingen.de/wp01/event/sos-jugendgottesdienst-dezember-2017-3/
CATEGORIES:Essen,Essen & Trinken,Gottesdienst,Input,Jugendliche,Lobpreis,Musik,Teenager,Teens,Worship
ATTACH;FMTTYPE=:
ORGANIZER;CN="CVJM Company":MAILTO:kontakt@sosjugo.de
END:VEVENT
END:VCALENDAR