BEGIN:VCALENDAR
VERSION:2.0
PRODID:-//CVJM Ofterdingen e. V. - ECPv6.15.18//NONSGML v1.0//EN
CALSCALE:GREGORIAN
METHOD:PUBLISH
X-ORIGINAL-URL:https://www.cvjm-ofterdingen.de/wp01
X-WR-CALDESC:Veranstaltungen für CVJM Ofterdingen e. V.
REFRESH-INTERVAL;VALUE=DURATION:PT1H
X-Robots-Tag:noindex
X-PUBLISHED-TTL:PT1H
BEGIN:VTIMEZONE
TZID:Europe/Berlin
BEGIN:DAYLIGHT
TZOFFSETFROM:+0100
TZOFFSETTO:+0200
TZNAME:CEST
DTSTART:20170326T010000
END:DAYLIGHT
BEGIN:STANDARD
TZOFFSETFROM:+0200
TZOFFSETTO:+0100
TZNAME:CET
DTSTART:20171029T010000
END:STANDARD
BEGIN:DAYLIGHT
TZOFFSETFROM:+0100
TZOFFSETTO:+0200
TZNAME:CEST
DTSTART:20180325T010000
END:DAYLIGHT
BEGIN:STANDARD
TZOFFSETFROM:+0200
TZOFFSETTO:+0100
TZNAME:CET
DTSTART:20181028T010000
END:STANDARD
BEGIN:DAYLIGHT
TZOFFSETFROM:+0100
TZOFFSETTO:+0200
TZNAME:CEST
DTSTART:20190331T010000
END:DAYLIGHT
BEGIN:STANDARD
TZOFFSETFROM:+0200
TZOFFSETTO:+0100
TZNAME:CET
DTSTART:20191027T010000
END:STANDARD
END:VTIMEZONE
BEGIN:VEVENT
DTSTART;TZID=Europe/Berlin:20180121T180000
DTEND;TZID=Europe/Berlin:20180121T193000
DTSTAMP:20260425T234604
CREATED:20180106T191235Z
LAST-MODIFIED:20180106T191235Z
UID:425-1516557600-1516563000@www.cvjm-ofterdingen.de
SUMMARY:SOS-Jugendgottesdienst - Januar 2018
DESCRIPTION:Hallo zusammen\, \nder erste SOS-Jugo in diesem Jahr findet am 21. Januar um 18 Uhr in der evangelisch-methodistischen Kirche (EMK) in Mössingen statt. Johann Bäcker (Open Doors) ist zu Gast und es geht um das Thema „(Un)Perfekte Welt?“. \nWarum hat Gott keine perfekte Welt geschaffen? Warum lässt er zu\, dass es so viel Leid gibt? Kann Gott wirklich jedem verzeihen – egal\, was er gemacht hat? Also auch grausamen Diktatoren und Attentätern?\nWas bedeutet dieses Thema für uns Christen? In einer Karikatur heißt es: Ein Mann sitzt neben Jesus auf der Parkbank und sagt „Warum unternimmst du eigentlich nichts gegen all das Unrecht und all das Leid in der Welt?“. Und Jesus antwortet: „Dasselbe wollte ich dich auch gerade fragen!“. Ist da etwas dran\, oder ist das halt eine überspitzte Karikatur? Vielleicht tut Gott ja auch eine Menge und wir merken es nicht? Oder ist Gott ein Gentleman\, der uns „machen lässt“? \nKomm vorbei und starte gemeinsam mit uns in das neue Jugo-Jahr. Nach dem Godi gibt’s natürlich noch einen Imbiss und Zeit\, um gemütlich zu quatschen. \nWir freuen uns auf Dich! \nBis bald\,\neuer SOS-Team \nPS: Nähere Infos & Anfahrt findest du direkt unter www.sosjugo.de.
URL:https://www.cvjm-ofterdingen.de/wp01/event/sos-jugendgottesdienst-dezember-2017-2/
CATEGORIES:Essen,Essen & Trinken,Gottesdienst,Input,Jugendliche,Lobpreis,Musik,Teenager,Teens,Worship
ATTACH;FMTTYPE=:
ORGANIZER;CN="CVJM Company":MAILTO:kontakt@sosjugo.de
END:VEVENT
END:VCALENDAR