BEGIN:VCALENDAR
VERSION:2.0
PRODID:-//CVJM Ofterdingen e. V. - ECPv6.15.18//NONSGML v1.0//EN
CALSCALE:GREGORIAN
METHOD:PUBLISH
X-ORIGINAL-URL:https://www.cvjm-ofterdingen.de/wp01
X-WR-CALDESC:Veranstaltungen für CVJM Ofterdingen e. V.
REFRESH-INTERVAL;VALUE=DURATION:PT1H
X-Robots-Tag:noindex
X-PUBLISHED-TTL:PT1H
BEGIN:VTIMEZONE
TZID:Europe/Berlin
BEGIN:DAYLIGHT
TZOFFSETFROM:+0100
TZOFFSETTO:+0200
TZNAME:CEST
DTSTART:20160327T010000
END:DAYLIGHT
BEGIN:STANDARD
TZOFFSETFROM:+0200
TZOFFSETTO:+0100
TZNAME:CET
DTSTART:20161030T010000
END:STANDARD
BEGIN:DAYLIGHT
TZOFFSETFROM:+0100
TZOFFSETTO:+0200
TZNAME:CEST
DTSTART:20170326T010000
END:DAYLIGHT
BEGIN:STANDARD
TZOFFSETFROM:+0200
TZOFFSETTO:+0100
TZNAME:CET
DTSTART:20171029T010000
END:STANDARD
BEGIN:DAYLIGHT
TZOFFSETFROM:+0100
TZOFFSETTO:+0200
TZNAME:CEST
DTSTART:20180325T010000
END:DAYLIGHT
BEGIN:STANDARD
TZOFFSETFROM:+0200
TZOFFSETTO:+0100
TZNAME:CET
DTSTART:20181028T010000
END:STANDARD
END:VTIMEZONE
BEGIN:VEVENT
DTSTART;TZID=Europe/Berlin:20171001T180000
DTEND;TZID=Europe/Berlin:20171001T193000
DTSTAMP:20260426T041618
CREATED:20170802T201740Z
LAST-MODIFIED:20170802T201740Z
UID:73-1506880800-1506886200@www.cvjm-ofterdingen.de
SUMMARY:SOS-Jugendgottesdienst - Oktober 2017
DESCRIPTION:Herzliche Einladung zum nächsten SOS-Jugendgottesdienst! \nEr findet am 01. Oktober 2017 im Festsaal der Zehntscheuer in Ofterdingen statt (Schulhof). Los geht’s um 18.00 Uhr!\nTobias Becker (ejw) wird zu Gast sein\, das Thema lautet „Lach doch ‚mal!“ \nNähere Infos findest du direkt unter www.sosjugo.de. \nNach dem Gottesdienst gibt’s einen leckeren Imbiss und Zeit\, um noch gemütlich etwas da zu bleiben. \nWir freuen uns auf dich!\nDein SOS-Team!
URL:https://www.cvjm-ofterdingen.de/wp01/event/sos-jugendgottesdienst-oktober-2017/
LOCATION:Zehntscheuer (Eingang über den Schulhof)\, Burggasse 1\, Ofterdingen\, 72131
CATEGORIES:Essen & Trinken,Gottesdienst,Input,Jugendliche,Lobpreis,Musik,Teenager,Teens,Worship
ATTACH;FMTTYPE=:
ORGANIZER;CN="CVJM Company":MAILTO:kontakt@sosjugo.de
END:VEVENT
END:VCALENDAR