BEGIN:VCALENDAR
VERSION:2.0
PRODID:-//CVJM Ofterdingen e. V. - ECPv6.15.18//NONSGML v1.0//EN
CALSCALE:GREGORIAN
METHOD:PUBLISH
X-ORIGINAL-URL:https://www.cvjm-ofterdingen.de/wp01
X-WR-CALDESC:Veranstaltungen für CVJM Ofterdingen e. V.
REFRESH-INTERVAL;VALUE=DURATION:PT1H
X-Robots-Tag:noindex
X-PUBLISHED-TTL:PT1H
BEGIN:VTIMEZONE
TZID:Europe/Berlin
BEGIN:DAYLIGHT
TZOFFSETFROM:+0100
TZOFFSETTO:+0200
TZNAME:CEST
DTSTART:20210328T010000
END:DAYLIGHT
BEGIN:STANDARD
TZOFFSETFROM:+0200
TZOFFSETTO:+0100
TZNAME:CET
DTSTART:20211031T010000
END:STANDARD
BEGIN:DAYLIGHT
TZOFFSETFROM:+0100
TZOFFSETTO:+0200
TZNAME:CEST
DTSTART:20220327T010000
END:DAYLIGHT
BEGIN:STANDARD
TZOFFSETFROM:+0200
TZOFFSETTO:+0100
TZNAME:CET
DTSTART:20221030T010000
END:STANDARD
BEGIN:DAYLIGHT
TZOFFSETFROM:+0100
TZOFFSETTO:+0200
TZNAME:CEST
DTSTART:20230326T010000
END:DAYLIGHT
BEGIN:STANDARD
TZOFFSETFROM:+0200
TZOFFSETTO:+0100
TZNAME:CET
DTSTART:20231029T010000
END:STANDARD
END:VTIMEZONE
BEGIN:VEVENT
DTSTART;TZID=Europe/Berlin:20221204T174500
DTEND;TZID=Europe/Berlin:20221204T193000
DTSTAMP:20260423T005536
CREATED:20220111T190935Z
LAST-MODIFIED:20220111T191726Z
UID:1659-1670175900-1670182200@www.cvjm-ofterdingen.de
SUMMARY:SOS-Jugendgottesdienst - Dezember 2022
DESCRIPTION:Hallo zusammen\, \nder gemeinsame Jugendgottesdienst SOS-Jugo meets iT-Service findet dieses Jahr am 04.12.2022 um 17:45 Uhr in der Kirche in Öschingen statt. Das Bengelhaus ist bei uns zu Gast und es geht um das spannende Thema „Mein Glaube ist zu schwach um Atheist zu sein“. \nDu denkst dir bestimmt grad: Hä? Was meinst du?\nJa\, warum ist es logischer und einfacher an einen Gott zu glauben\, als dass es keinen gibt? Gibt es dafür wirkliche Gründe? Was ändert sich\, wenn ich mich auf diesen Gott einlasse? Was ist Wahrheit? Kann man Gott beweisen? \nBist du neugierig geworden? – Wir freuen uns\, wenn du vorbeikommst! Bring gern noch jemand mit! \nBis bald\,\nDein SOS-Team \nP.S.: Nähere Infos und aktuelle Änderungen findest du auf Instagram (@sos_jugo) oder hier.
URL:https://www.cvjm-ofterdingen.de/wp01/event/sos-jugendgottesdienst-2022-dezember/
LOCATION:ev. Gemeindehaus Öschingen\, Amselweg 5\, Mössingen-Öschingen\, 72116\, Deutschland
CATEGORIES:Erwachsene,Event,Gottesdienst,Input,Jugendliche,Jugo,Lobpreis,Musik,Teenager,Teens,Worship
ATTACH;FMTTYPE=image/jpeg:https://www.cvjm-ofterdingen.de/wp01/wp-content/uploads/2022/01/2022-06_Dezember.jpeg
ORGANIZER;CN="CVJM Company":MAILTO:kontakt@sosjugo.de
END:VEVENT
END:VCALENDAR