BEGIN:VCALENDAR
VERSION:2.0
PRODID:-//CVJM Ofterdingen e. V. - ECPv6.15.18//NONSGML v1.0//EN
CALSCALE:GREGORIAN
METHOD:PUBLISH
X-WR-CALNAME:CVJM Ofterdingen e. V.
X-ORIGINAL-URL:https://www.cvjm-ofterdingen.de/wp01
X-WR-CALDESC:Veranstaltungen für CVJM Ofterdingen e. V.
REFRESH-INTERVAL;VALUE=DURATION:PT1H
X-Robots-Tag:noindex
X-PUBLISHED-TTL:PT1H
BEGIN:VTIMEZONE
TZID:Europe/Berlin
BEGIN:DAYLIGHT
TZOFFSETFROM:+0100
TZOFFSETTO:+0200
TZNAME:CEST
DTSTART:20210328T010000
END:DAYLIGHT
BEGIN:STANDARD
TZOFFSETFROM:+0200
TZOFFSETTO:+0100
TZNAME:CET
DTSTART:20211031T010000
END:STANDARD
BEGIN:DAYLIGHT
TZOFFSETFROM:+0100
TZOFFSETTO:+0200
TZNAME:CEST
DTSTART:20220327T010000
END:DAYLIGHT
BEGIN:STANDARD
TZOFFSETFROM:+0200
TZOFFSETTO:+0100
TZNAME:CET
DTSTART:20221030T010000
END:STANDARD
BEGIN:DAYLIGHT
TZOFFSETFROM:+0100
TZOFFSETTO:+0200
TZNAME:CEST
DTSTART:20230326T010000
END:DAYLIGHT
BEGIN:STANDARD
TZOFFSETFROM:+0200
TZOFFSETTO:+0100
TZNAME:CET
DTSTART:20231029T010000
END:STANDARD
END:VTIMEZONE
BEGIN:VEVENT
DTSTART;TZID=Europe/Berlin:20220717T174500
DTEND;TZID=Europe/Berlin:20220717T193000
DTSTAMP:20260423T084701
CREATED:20220111T190209Z
LAST-MODIFIED:20221016T140639Z
UID:1621-1658079900-1658086200@www.cvjm-ofterdingen.de
SUMMARY:SOS-Jugendgottesdienst - Juli 2022
DESCRIPTION:Hallo zusammen\, \nder nächste SOS-Jugo findet am 17. Juli 2022 um 17:45 Uhr in der Johanneskirche in Bästenhardt (Mössingen) statt. Andy Kopp (Gemeindepfarrer in Belsen) ist bei uns zu Gast und es geht um das spannende Thema „Vater für Vaterlose“. \nWas ist ein guter Vater? Hattest du das Glück\, mit einem guten Vater aufzuwachsen? Wir alle haben einen guten Vater\, einen Papa im Himmel. Hast du von dem schon einmal was gehört? Er ist der\, der uns liebt so wie wir sind\, der uns in den Arm nimmt\, wenn wir den größten Mist gebaut haben. Wenn wir nichts Gutes mehr an uns sehen\, ist er der\, der uns wieder aufbauen will. Er ist vollkommen gut\, vergebend\, treu und gnädig. Sehnst du dich auch danach? \nBist du neugierig geworden? – Wir freuen uns\, wenn du vorbeikommst! Bring gern noch jemand mit! \nBis bald\,\nDein SOS-Team \nP.S.: Nähere Infos und aktuelle Änderungen findest du auf Instagram (@sos_jugo) oder hier.
URL:https://www.cvjm-ofterdingen.de/wp01/event/sos-jugendgottesdienst-2022-januar-3/
LOCATION:Johanneskirche Bästenhardt\, Birkenstraße 45\, Mössingen\, 72116\, Deutschland
CATEGORIES:Erwachsene,Event,Gottesdienst,Input,Jugendliche,Jugo,Lobpreis,Musik,Teenager,Teens,Worship
ATTACH;FMTTYPE=image/jpeg:https://www.cvjm-ofterdingen.de/wp01/wp-content/uploads/2022/01/2022-04_Juli.jpeg
ORGANIZER;CN="CVJM Company":MAILTO:kontakt@sosjugo.de
END:VEVENT
END:VCALENDAR