BEGIN:VCALENDAR
VERSION:2.0
PRODID:-//CVJM Ofterdingen e. V. - ECPv6.15.18//NONSGML v1.0//EN
CALSCALE:GREGORIAN
METHOD:PUBLISH
X-WR-CALNAME:CVJM Ofterdingen e. V.
X-ORIGINAL-URL:https://www.cvjm-ofterdingen.de/wp01
X-WR-CALDESC:Veranstaltungen für CVJM Ofterdingen e. V.
REFRESH-INTERVAL;VALUE=DURATION:PT1H
X-Robots-Tag:noindex
X-PUBLISHED-TTL:PT1H
BEGIN:VTIMEZONE
TZID:Europe/Berlin
BEGIN:DAYLIGHT
TZOFFSETFROM:+0100
TZOFFSETTO:+0200
TZNAME:CEST
DTSTART:20210328T010000
END:DAYLIGHT
BEGIN:STANDARD
TZOFFSETFROM:+0200
TZOFFSETTO:+0100
TZNAME:CET
DTSTART:20211031T010000
END:STANDARD
BEGIN:DAYLIGHT
TZOFFSETFROM:+0100
TZOFFSETTO:+0200
TZNAME:CEST
DTSTART:20220327T010000
END:DAYLIGHT
BEGIN:STANDARD
TZOFFSETFROM:+0200
TZOFFSETTO:+0100
TZNAME:CET
DTSTART:20221030T010000
END:STANDARD
BEGIN:DAYLIGHT
TZOFFSETFROM:+0100
TZOFFSETTO:+0200
TZNAME:CEST
DTSTART:20230326T010000
END:DAYLIGHT
BEGIN:STANDARD
TZOFFSETFROM:+0200
TZOFFSETTO:+0100
TZNAME:CET
DTSTART:20231029T010000
END:STANDARD
END:VTIMEZONE
BEGIN:VEVENT
DTSTART;TZID=Europe/Berlin:20220515T174500
DTEND;TZID=Europe/Berlin:20220515T193000
DTSTAMP:20260423T115126
CREATED:20220111T174810Z
LAST-MODIFIED:20221016T140654Z
UID:1602-1652636700-1652643000@www.cvjm-ofterdingen.de
SUMMARY:SOS-Jugendgottesdienst - Mai 2022
DESCRIPTION:Hallo zusammen\, \nder nächste SOS- Jugo findet am 15. Mai 2022 um 17:45 Uhr im Gemeindehaus in Ofterdingen statt. Klaus Stoll (Ehemaliger Freiwilligendienstleiter des Landesjugendwerk) ist bei uns zu Gast und es geht um das spannende Thema „Ewigkeit – Was zählt wirklich? Gib deinem Leben einen Sinn!“. \nBeim letzten SOS haben wir gehört wer wir sind aber weißt du welchen Sinn es hat\, dass du hier bist? Hast du schon einmal was von der Ewigkeit gehört? Glaubst du an ein Leben nach dem Tod?\nHast du schon davon gehört\, dass Jesus deinem Leben einen Sinn geben will? Was\, wenn es tatsächlich einen tieferen Sinn in deinem Leben geben sollte? Wenn es so etwas wie eine Ewigkeitsperspektive gibt? \nBist du neugierig geworden? – Wir freuen uns\, wenn du vorbeikommst! Bring gern noch jemand mit! \nBis bald\,\nDein SOS-Team \nP.S.: Nähere Infos und aktuelle Änderungen findest du auf Instagram (@sos_jugo) oder hier.
URL:https://www.cvjm-ofterdingen.de/wp01/event/sos-jugendgottesdienst-2022-mai/
LOCATION:ev. Gemeindehaus Ofterdingen\, Rohrgasse 6\, Ofterdingen\, 72131\, Deutschland
CATEGORIES:Erwachsene,Event,Gottesdienst,Input,Jugendliche,Jugo,Lobpreis,Musik,Teenager,Teens,Worship
ATTACH;FMTTYPE=image/jpeg:https://www.cvjm-ofterdingen.de/wp01/wp-content/uploads/2022/01/2022-03_Mai.jpeg
ORGANIZER;CN="CVJM Company":MAILTO:kontakt@sosjugo.de
END:VEVENT
END:VCALENDAR