BEGIN:VCALENDAR
VERSION:2.0
PRODID:-//CVJM Ofterdingen e. V. - ECPv6.15.18//NONSGML v1.0//EN
CALSCALE:GREGORIAN
METHOD:PUBLISH
X-WR-CALNAME:CVJM Ofterdingen e. V.
X-ORIGINAL-URL:https://www.cvjm-ofterdingen.de/wp01
X-WR-CALDESC:Veranstaltungen für CVJM Ofterdingen e. V.
REFRESH-INTERVAL;VALUE=DURATION:PT1H
X-Robots-Tag:noindex
X-PUBLISHED-TTL:PT1H
BEGIN:VTIMEZONE
TZID:Europe/Berlin
BEGIN:DAYLIGHT
TZOFFSETFROM:+0100
TZOFFSETTO:+0200
TZNAME:CEST
DTSTART:20180325T010000
END:DAYLIGHT
BEGIN:STANDARD
TZOFFSETFROM:+0200
TZOFFSETTO:+0100
TZNAME:CET
DTSTART:20181028T010000
END:STANDARD
BEGIN:DAYLIGHT
TZOFFSETFROM:+0100
TZOFFSETTO:+0200
TZNAME:CEST
DTSTART:20190331T010000
END:DAYLIGHT
BEGIN:STANDARD
TZOFFSETFROM:+0200
TZOFFSETTO:+0100
TZNAME:CET
DTSTART:20191027T010000
END:STANDARD
BEGIN:DAYLIGHT
TZOFFSETFROM:+0100
TZOFFSETTO:+0200
TZNAME:CEST
DTSTART:20200329T010000
END:DAYLIGHT
BEGIN:STANDARD
TZOFFSETFROM:+0200
TZOFFSETTO:+0100
TZNAME:CET
DTSTART:20201025T010000
END:STANDARD
END:VTIMEZONE
BEGIN:VEVENT
DTSTART;TZID=Europe/Berlin:20190512T180000
DTEND;TZID=Europe/Berlin:20190512T193000
DTSTAMP:20260425T132832
CREATED:20181013T175447Z
LAST-MODIFIED:20181013T180514Z
UID:828-1557684000-1557689400@www.cvjm-ofterdingen.de
SUMMARY:SOS-Jugendgottesdienst - Mai 2019
DESCRIPTION:Hallo zusammen\, \nder nächste SOS-Jugo findet am 12. Mai um 18 Uhr im Gemeindehaus in Belsen statt. Achim Stadelmaier (for me and my sons) ist zu Gast und es geht um das Thema „Was gibt dir Halt?“. \nWas gibt dir Zuversicht…\n…wenn etwas Schlechtes geschieht?\n…wenn du in einer ausweglosen Situation bist?\n…wenn du nicht weißt\, wie es im Leben weitergehen soll?\nWie stark ist unser Glaube? Was trauen wir Gott zu? Kann ich überhaupt auf Gott vertrauen – oder ist das irgendwie zufällig\, ob er hilft?\nWas gibt dir Zuversicht\, Halt\, Sicherheit? Worauf baust du? \nAchim Stadelmaier ist Sänger und Pianist der Band „for me and my sons“ und wird nach der Predigt das Lied „abide with me“\, das ein Hauptbestandteil der Predigt sein wird\, mit uns spielen. \nKomm vorbei und wenn du magst\, bring noch jemanden mit! Nach dem Godi gibt’s natürlich noch einen Imbiss und Zeit\, um gemütlich zu quatschen. \nWir freuen uns auf Dich! \nBis bald\,\neuer SOS-Team \nPS: Nähere Infos & Anfahrt findest du direkt unter www.sosjugo.de.
URL:https://www.cvjm-ofterdingen.de/wp01/event/sos-jugendgottesdienst-mai-2019/
LOCATION:ev. Gemeindehaus Belsen\, Sieben-Höfe-Weg 23\, Mössingen-Belsen\, 72116\, Deutschland
CATEGORIES:CVJM Landesverband e. V.,Erwachsene,Essen,Essen & Trinken,Gottesdienst,Input,Jugendliche,Lobpreis,Musik,Teenager,Teens,Worship
ATTACH;FMTTYPE=image/jpeg:https://www.cvjm-ofterdingen.de/wp01/wp-content/uploads/2018/10/03_g.jpg
ORGANIZER;CN="CVJM Company":MAILTO:kontakt@sosjugo.de
END:VEVENT
END:VCALENDAR