BEGIN:VCALENDAR
VERSION:2.0
PRODID:-//CVJM Ofterdingen e. V. - ECPv6.15.18//NONSGML v1.0//EN
CALSCALE:GREGORIAN
METHOD:PUBLISH
X-ORIGINAL-URL:https://www.cvjm-ofterdingen.de/wp01
X-WR-CALDESC:Veranstaltungen für CVJM Ofterdingen e. V.
REFRESH-INTERVAL;VALUE=DURATION:PT1H
X-Robots-Tag:noindex
X-PUBLISHED-TTL:PT1H
BEGIN:VTIMEZONE
TZID:Europe/Berlin
BEGIN:DAYLIGHT
TZOFFSETFROM:+0100
TZOFFSETTO:+0200
TZNAME:CEST
DTSTART:20210328T010000
END:DAYLIGHT
BEGIN:STANDARD
TZOFFSETFROM:+0200
TZOFFSETTO:+0100
TZNAME:CET
DTSTART:20211031T010000
END:STANDARD
BEGIN:DAYLIGHT
TZOFFSETFROM:+0100
TZOFFSETTO:+0200
TZNAME:CEST
DTSTART:20220327T010000
END:DAYLIGHT
BEGIN:STANDARD
TZOFFSETFROM:+0200
TZOFFSETTO:+0100
TZNAME:CET
DTSTART:20221030T010000
END:STANDARD
BEGIN:DAYLIGHT
TZOFFSETFROM:+0100
TZOFFSETTO:+0200
TZNAME:CEST
DTSTART:20230326T010000
END:DAYLIGHT
BEGIN:STANDARD
TZOFFSETFROM:+0200
TZOFFSETTO:+0100
TZNAME:CET
DTSTART:20231029T010000
END:STANDARD
END:VTIMEZONE
BEGIN:VEVENT
DTSTART;TZID=Europe/Berlin:20221218T170000
DTEND;TZID=Europe/Berlin:20221218T183000
DTSTAMP:20260423T235106
CREATED:20220116T005523Z
LAST-MODIFIED:20221203T215736Z
UID:1715-1671382800-1671388200@www.cvjm-ofterdingen.de
SUMMARY:Adventssingen mit Posaunenchor & Singteam
DESCRIPTION:Herzliche Einladung zum gemeinsamen Singen unterm Christbaum mit dem Posaunenchor und Singteam sowie Begegnung bei Punsch und Imbiss.
URL:https://www.cvjm-ofterdingen.de/wp01/event/2022adventssingen-mit-posaunenchor-buergergesangsverein/
CATEGORIES:Erwachsene,Event,Familien,Lobpreis,Musik,Posaunenchor,Worship
ATTACH;FMTTYPE=image/png:https://www.cvjm-ofterdingen.de/wp01/wp-content/uploads/2022/01/SuC2022CVJM.jpg.png
END:VEVENT
END:VCALENDAR