BEGIN:VCALENDAR
VERSION:2.0
PRODID:-//CVJM Ofterdingen e. V. - ECPv6.15.18//NONSGML v1.0//EN
CALSCALE:GREGORIAN
METHOD:PUBLISH
X-ORIGINAL-URL:https://www.cvjm-ofterdingen.de/wp01
X-WR-CALDESC:Veranstaltungen für CVJM Ofterdingen e. V.
REFRESH-INTERVAL;VALUE=DURATION:PT1H
X-Robots-Tag:noindex
X-PUBLISHED-TTL:PT1H
BEGIN:VTIMEZONE
TZID:Europe/Berlin
BEGIN:DAYLIGHT
TZOFFSETFROM:+0100
TZOFFSETTO:+0200
TZNAME:CEST
DTSTART:20170326T010000
END:DAYLIGHT
BEGIN:STANDARD
TZOFFSETFROM:+0200
TZOFFSETTO:+0100
TZNAME:CET
DTSTART:20171029T010000
END:STANDARD
BEGIN:DAYLIGHT
TZOFFSETFROM:+0100
TZOFFSETTO:+0200
TZNAME:CEST
DTSTART:20180325T010000
END:DAYLIGHT
BEGIN:STANDARD
TZOFFSETFROM:+0200
TZOFFSETTO:+0100
TZNAME:CET
DTSTART:20181028T010000
END:STANDARD
BEGIN:DAYLIGHT
TZOFFSETFROM:+0100
TZOFFSETTO:+0200
TZNAME:CEST
DTSTART:20190331T010000
END:DAYLIGHT
BEGIN:STANDARD
TZOFFSETFROM:+0200
TZOFFSETTO:+0100
TZNAME:CET
DTSTART:20191027T010000
END:STANDARD
END:VTIMEZONE
BEGIN:VEVENT
DTSTART;TZID=Europe/Berlin:20180627T150000
DTEND;TZID=Europe/Berlin:20180627T173000
DTSTAMP:20260425T152211
CREATED:20180619T184938Z
LAST-MODIFIED:20180619T184952Z
UID:757-1530111600-1530120600@www.cvjm-ofterdingen.de
SUMMARY:Sommerfest Kindertreff
DESCRIPTION:Vorhang auf für die biblische Puppenbühne \nHerzliche Einladung an Familien mit kleinen Kindern zum Sommerfest am Mittwoch\, den 27. Juni um 15.00 Uhr im Garten von Familie Handte\, Achalmstr. 32\, Tel.7371 (auch bei Regenwetter). Natürlich ist die Handpuppe Frederic wieder mit dabei. Neben gemütlichem Zusammensein bei Kaffee\, Saft und Kuchen gibt es auch Spielangebote für Kinder. Über Ihr Kommen würden wir uns freuen.
URL:https://www.cvjm-ofterdingen.de/wp01/event/sommerfest-kindertreff/
LOCATION:Achalmstraße 32\, 72131 Ofterdingen\, Achalmstraße 32\, Ofterdingen\, 72131
CATEGORIES:Andacht,Essen,Essen & Trinken,Event,Familien,Geschichte,Input,Kids,Kinder,Musik
ATTACH;FMTTYPE=image/jpeg:https://www.cvjm-ofterdingen.de/wp01/wp-content/uploads/2018/06/Sommerfest_Kindertreff18.jpg
ORGANIZER;CN="CVJM Ofterdingen e. V.":MAILTO:kontakt@cvjm-ofterdingen.de
END:VEVENT
END:VCALENDAR