BEGIN:VCALENDAR
VERSION:2.0
PRODID:-//CVJM Ofterdingen e. V. - ECPv6.15.18//NONSGML v1.0//EN
CALSCALE:GREGORIAN
METHOD:PUBLISH
X-WR-CALNAME:CVJM Ofterdingen e. V.
X-ORIGINAL-URL:https://www.cvjm-ofterdingen.de/wp01
X-WR-CALDESC:Veranstaltungen für CVJM Ofterdingen e. V.
REFRESH-INTERVAL;VALUE=DURATION:PT1H
X-Robots-Tag:noindex
X-PUBLISHED-TTL:PT1H
BEGIN:VTIMEZONE
TZID:Europe/Berlin
BEGIN:DAYLIGHT
TZOFFSETFROM:+0100
TZOFFSETTO:+0200
TZNAME:CEST
DTSTART:20200329T010000
END:DAYLIGHT
BEGIN:STANDARD
TZOFFSETFROM:+0200
TZOFFSETTO:+0100
TZNAME:CET
DTSTART:20201025T010000
END:STANDARD
BEGIN:DAYLIGHT
TZOFFSETFROM:+0100
TZOFFSETTO:+0200
TZNAME:CEST
DTSTART:20210328T010000
END:DAYLIGHT
BEGIN:STANDARD
TZOFFSETFROM:+0200
TZOFFSETTO:+0100
TZNAME:CET
DTSTART:20211031T010000
END:STANDARD
BEGIN:DAYLIGHT
TZOFFSETFROM:+0100
TZOFFSETTO:+0200
TZNAME:CEST
DTSTART:20220327T010000
END:DAYLIGHT
BEGIN:STANDARD
TZOFFSETFROM:+0200
TZOFFSETTO:+0100
TZNAME:CET
DTSTART:20221030T010000
END:STANDARD
END:VTIMEZONE
BEGIN:VEVENT
DTSTART;TZID=Europe/Berlin:20211031T190000
DTEND;TZID=Europe/Berlin:20211031T210000
DTSTAMP:20260424T004233
CREATED:20211010T164320Z
LAST-MODIFIED:20211012T083248Z
UID:1523-1635706800-1635714000@www.cvjm-ofterdingen.de
SUMMARY:Churchnight 2021
DESCRIPTION:Ein Hallo an euch alle! \nHalloween – muss das sein? Eine Nacht\, die sich nicht nur zum Gruseln eignet\, sondern auch zum Nachdenken. Der 31. Oktober ist der sogenannte Reformationstag\, der Tag\, an dem Luther seine 95 Thesen an die Kirchentür gehämmert hat. Daran wollen wir in Form eines Taizé-Gottesdienstes erinnern. Taizé ist ein kleiner Ort in Frankreich\, in dem es sich eine Brüderschaft zur Aufgabe gemacht hat\, Jugendliche und junge Erwachsene willkommen zu heißen und mit Gott in Verbindung zu kommen. Sie halten Gottesdienste in ihrer ganz eigenen Art\, mit viel Ruhe und meditativen Gesängen. \nZu diesem besonderen Gottesdienst sind alle herzlich eingeladen! \nDie Churchnight 2021 findet am 31. Oktober in der Zehntscheuer in Ofterdingen statt. Los geht’s um 19.00 Uhr! \nWeitere Infos: \n\nNeue Parkplätze gibt es hinter der Zehntscheuer und an den Straßen rund um die Burghof-Halle/den Schulhof.\nBitte Maske mitbringen und die ganze Zeit aufgesetzt haben.\nFalls du magst\, kannst du gerne bereits um 14.30 Uhr zum „CVJM-Tag“ kommen:\n\nIn der Zehntscheuer erzählt Willi Buntz („Der Bibelraucher“) aus seinem bewegten Leben\, der Eintritt ist frei.\nIn der Burghof-Halle findet das Familienmitmachkonzert mit Mike Müllerbauer statt\, Eintritt 5 Euro pro Person bzw. 15 Euro pro Familie.\nWeitere Infos: cvjm-ofterdingen.de (Startseite)\n\n\n\nKomm vorbei\, sei am Start\, bring Freunde oder deine Familie mit\, wenn du magst! \nWir freuen uns auf Dich!
URL:https://www.cvjm-ofterdingen.de/wp01/event/churchnight-2021/
LOCATION:Zehntscheuer (Eingang über den Schulhof)\, Burggasse 1\, Ofterdingen\, 72131
CATEGORIES:Andacht,Erwachsene,Essen,Essen & Trinken,Event,Familien,Gottesdienst,Input,Jugendliche,Lobpreis,Musik,Teenager,Teens,Worship
ATTACH;FMTTYPE=image/jpeg:https://www.cvjm-ofterdingen.de/wp01/wp-content/uploads/2021/10/03-plakat_k-1.jpg
ORGANIZER;CN="CVJM Company":MAILTO:kontakt@sosjugo.de
END:VEVENT
END:VCALENDAR