BEGIN:VCALENDAR
VERSION:2.0
PRODID:-//CVJM Ofterdingen e. V. - ECPv6.15.18//NONSGML v1.0//EN
CALSCALE:GREGORIAN
METHOD:PUBLISH
X-ORIGINAL-URL:https://www.cvjm-ofterdingen.de/wp01
X-WR-CALDESC:Veranstaltungen für CVJM Ofterdingen e. V.
REFRESH-INTERVAL;VALUE=DURATION:PT1H
X-Robots-Tag:noindex
X-PUBLISHED-TTL:PT1H
BEGIN:VTIMEZONE
TZID:Europe/Berlin
BEGIN:DAYLIGHT
TZOFFSETFROM:+0100
TZOFFSETTO:+0200
TZNAME:CEST
DTSTART:20210328T010000
END:DAYLIGHT
BEGIN:STANDARD
TZOFFSETFROM:+0200
TZOFFSETTO:+0100
TZNAME:CET
DTSTART:20211031T010000
END:STANDARD
BEGIN:DAYLIGHT
TZOFFSETFROM:+0100
TZOFFSETTO:+0200
TZNAME:CEST
DTSTART:20220327T010000
END:DAYLIGHT
BEGIN:STANDARD
TZOFFSETFROM:+0200
TZOFFSETTO:+0100
TZNAME:CET
DTSTART:20221030T010000
END:STANDARD
BEGIN:DAYLIGHT
TZOFFSETFROM:+0100
TZOFFSETTO:+0200
TZNAME:CEST
DTSTART:20230326T010000
END:DAYLIGHT
BEGIN:STANDARD
TZOFFSETFROM:+0200
TZOFFSETTO:+0100
TZNAME:CET
DTSTART:20231029T010000
END:STANDARD
END:VTIMEZONE
BEGIN:VEVENT
DTSTART;TZID=Europe/Berlin:20221224T170000
DTEND;TZID=Europe/Berlin:20221224T180000
DTSTAMP:20260423T144859
CREATED:20220116T005645Z
LAST-MODIFIED:20220707T205158Z
UID:1717-1671901200-1671904800@www.cvjm-ofterdingen.de
SUMMARY:Posaunenchor Kurrente zu Weihnachten
DESCRIPTION:An verschiedenen Orten in Ofterdingen sind die Klänge des Posaunenchors zu hören.\n(In der Regel nach dem Gottesdienst. Infos: Wilhelm Handte)
URL:https://www.cvjm-ofterdingen.de/wp01/event/2022posaunenchor-kurrente-zu-weihnachten/
LOCATION:Ofterdingen\, Ofterdingen\, Baden-Württemberg\, 72131\, Deutschland
CATEGORIES:Gottesdienst,Lobpreis,Musik,Posaunenchor
END:VEVENT
END:VCALENDAR