BEGIN:VCALENDAR
VERSION:2.0
PRODID:-//CVJM Ofterdingen e. V. - ECPv6.15.18//NONSGML v1.0//EN
CALSCALE:GREGORIAN
METHOD:PUBLISH
X-WR-CALNAME:CVJM Ofterdingen e. V.
X-ORIGINAL-URL:https://www.cvjm-ofterdingen.de/wp01
X-WR-CALDESC:Veranstaltungen für CVJM Ofterdingen e. V.
REFRESH-INTERVAL;VALUE=DURATION:PT1H
X-Robots-Tag:noindex
X-PUBLISHED-TTL:PT1H
BEGIN:VTIMEZONE
TZID:Europe/Berlin
BEGIN:DAYLIGHT
TZOFFSETFROM:+0100
TZOFFSETTO:+0200
TZNAME:CEST
DTSTART:20210328T010000
END:DAYLIGHT
BEGIN:STANDARD
TZOFFSETFROM:+0200
TZOFFSETTO:+0100
TZNAME:CET
DTSTART:20211031T010000
END:STANDARD
BEGIN:DAYLIGHT
TZOFFSETFROM:+0100
TZOFFSETTO:+0200
TZNAME:CEST
DTSTART:20220327T010000
END:DAYLIGHT
BEGIN:STANDARD
TZOFFSETFROM:+0200
TZOFFSETTO:+0100
TZNAME:CET
DTSTART:20221030T010000
END:STANDARD
BEGIN:DAYLIGHT
TZOFFSETFROM:+0100
TZOFFSETTO:+0200
TZNAME:CEST
DTSTART:20230326T010000
END:DAYLIGHT
BEGIN:STANDARD
TZOFFSETFROM:+0200
TZOFFSETTO:+0100
TZNAME:CET
DTSTART:20231029T010000
END:STANDARD
END:VTIMEZONE
BEGIN:VEVENT
DTSTART;TZID=Europe/Berlin:20221023T143000
DTEND;TZID=Europe/Berlin:20221023T173000
DTSTAMP:20260423T144431
CREATED:20220116T005242Z
LAST-MODIFIED:20221008T095145Z
UID:1713-1666535400-1666546200@www.cvjm-ofterdingen.de
SUMMARY:CVJM Nachmittag 2022
DESCRIPTION:Herzliche Einladung zum diesjährigen CVJM Nachmittag \nAb 14.30 Uhr startet das Ankommen in der Burghof-Halle bei Kaffee\, Brezeln\, Kuchen und kühlen Getränken. Für die Kids steht eine XXL-Hüpfburg\, der Jungle Track\, zum Auspowern bereit.\nDer Posaunenchor sorgt für musikalische Unterhaltung. Anschließend startet das Kurzprogramm mit Jörg Bartoß\, welches bei allen Altersgruppen für Freude und Faszination sorgen wird. Jörg Bartoß ist Pastor\, Evangelist\, Spiel- und Erlebnispädagoge\, Autor und als Trickkünstler unterwegs. Er versteckt in seiner Trickkunst die beste Botschaft der Welt (mehr: einfachjesus.de). \nWir freuen uns auf Ihren\, Deinen und Euren Besuch!
URL:https://www.cvjm-ofterdingen.de/wp01/event/2022familientag/
LOCATION:Burghof-Halle\, Burggasse 4\, Ofterdingen\, 72131
CATEGORIES:Andacht,Erwachsene,Essen,Essen & Trinken,Event,Familien,Freizeit,Geschichte,Input,Jugendliche,Kids,Kinder,Lobpreis,Musik,Posaunenchor,Teenager,Teens,Worship
END:VEVENT
END:VCALENDAR