BEGIN:VCALENDAR
VERSION:2.0
PRODID:-//CVJM Ofterdingen e. V. - ECPv6.15.18//NONSGML v1.0//EN
CALSCALE:GREGORIAN
METHOD:PUBLISH
X-WR-CALNAME:CVJM Ofterdingen e. V.
X-ORIGINAL-URL:https://www.cvjm-ofterdingen.de/wp01
X-WR-CALDESC:Veranstaltungen für CVJM Ofterdingen e. V.
REFRESH-INTERVAL;VALUE=DURATION:PT1H
X-Robots-Tag:noindex
X-PUBLISHED-TTL:PT1H
BEGIN:VTIMEZONE
TZID:Europe/Berlin
BEGIN:DAYLIGHT
TZOFFSETFROM:+0100
TZOFFSETTO:+0200
TZNAME:CEST
DTSTART:20180325T010000
END:DAYLIGHT
BEGIN:STANDARD
TZOFFSETFROM:+0200
TZOFFSETTO:+0100
TZNAME:CET
DTSTART:20181028T010000
END:STANDARD
BEGIN:DAYLIGHT
TZOFFSETFROM:+0100
TZOFFSETTO:+0200
TZNAME:CEST
DTSTART:20190331T010000
END:DAYLIGHT
BEGIN:STANDARD
TZOFFSETFROM:+0200
TZOFFSETTO:+0100
TZNAME:CET
DTSTART:20191027T010000
END:STANDARD
BEGIN:DAYLIGHT
TZOFFSETFROM:+0100
TZOFFSETTO:+0200
TZNAME:CEST
DTSTART:20200329T010000
END:DAYLIGHT
BEGIN:STANDARD
TZOFFSETFROM:+0200
TZOFFSETTO:+0100
TZNAME:CET
DTSTART:20201025T010000
END:STANDARD
END:VTIMEZONE
BEGIN:VEVENT
DTSTART;TZID=Europe/Berlin:20191012T093000
DTEND;TZID=Europe/Berlin:20191012T123000
DTSTAMP:20260425T164905
CREATED:20181225T235243Z
LAST-MODIFIED:20190921T125920Z
UID:913-1570872600-1570883400@www.cvjm-ofterdingen.de
SUMMARY:Kinder-Bibelfrühstück
DESCRIPTION:KINDER–BIBEL–FRÜHSTÜCK \n  \nEin Frühstück – Musik – spannende Geschichten – Spiel & Spaß  u.v.m. … \n… für alle Kinder ab dem Vorschulalter! \n  \nWann :     12. Oktober 2019 \n                  9.30 Uhr – 12.30 Uhr \nWo:          Im Vereinszimmer der Burghofhalle! \n         Wir laden DICH ganz herzlich zu unserem \n \nein und wir freuen uns auf DICH!!! \nDein Vorbereitungsteam des CVJM \n  \nPS: Wer möchte darf 1\,50 € für das Frühstück mitbringen. \n                                                                                                         Kontakt: Maria Handte Tel. 7371 \nEinladung KibIFrüh 2019 \n 
URL:https://www.cvjm-ofterdingen.de/wp01/event/kinder-holzbautag-2/
LOCATION:ev. Gemeindehaus Ofterdingen\, Rohrgasse 6\, Ofterdingen\, 72131\, Deutschland
CATEGORIES:Bauen,Essen,Essen & Trinken,Event,Familien,Input,Kids,Kinder
ATTACH;FMTTYPE=image/png:https://www.cvjm-ofterdingen.de/wp01/wp-content/uploads/2019/09/KiBiFrühBild.png
ORGANIZER;CN="CVJM Ofterdingen e. V.":MAILTO:kontakt@cvjm-ofterdingen.de
END:VEVENT
END:VCALENDAR