BEGIN:VCALENDAR
VERSION:2.0
PRODID:-//CVJM Ofterdingen e. V. - ECPv6.15.18//NONSGML v1.0//EN
CALSCALE:GREGORIAN
METHOD:PUBLISH
X-WR-CALNAME:CVJM Ofterdingen e. V.
X-ORIGINAL-URL:https://www.cvjm-ofterdingen.de/wp01
X-WR-CALDESC:Veranstaltungen für CVJM Ofterdingen e. V.
REFRESH-INTERVAL;VALUE=DURATION:PT1H
X-Robots-Tag:noindex
X-PUBLISHED-TTL:PT1H
BEGIN:VTIMEZONE
TZID:Europe/Berlin
BEGIN:DAYLIGHT
TZOFFSETFROM:+0100
TZOFFSETTO:+0200
TZNAME:CEST
DTSTART:20180325T010000
END:DAYLIGHT
BEGIN:STANDARD
TZOFFSETFROM:+0200
TZOFFSETTO:+0100
TZNAME:CET
DTSTART:20181028T010000
END:STANDARD
BEGIN:DAYLIGHT
TZOFFSETFROM:+0100
TZOFFSETTO:+0200
TZNAME:CEST
DTSTART:20190331T010000
END:DAYLIGHT
BEGIN:STANDARD
TZOFFSETFROM:+0200
TZOFFSETTO:+0100
TZNAME:CET
DTSTART:20191027T010000
END:STANDARD
BEGIN:DAYLIGHT
TZOFFSETFROM:+0100
TZOFFSETTO:+0200
TZNAME:CEST
DTSTART:20200329T010000
END:DAYLIGHT
BEGIN:STANDARD
TZOFFSETFROM:+0200
TZOFFSETTO:+0100
TZNAME:CET
DTSTART:20201025T010000
END:STANDARD
END:VTIMEZONE
BEGIN:VEVENT
DTSTART;TZID=Europe/Berlin:20190628T150000
DTEND;TZID=Europe/Berlin:20190630T150000
DTSTAMP:20260425T224344
CREATED:20181225T235830Z
LAST-MODIFIED:20190415T103721Z
UID:920-1561734000-1561906800@www.cvjm-ofterdingen.de
SUMMARY:Vater-Kind-Lager 2019
DESCRIPTION:Los geht’s am Freitag (29. Juni)\, die Rückkehr wird am Sonntag (30. Juni) sein. \nAuf dem Programm stehen viele gemeinschaftliche Aktionen\, Spielzeit für die Kids\, Lagerfeuer- & Austausch-Zeit für die Väter und kurze Inputs. \nNähere Infos gibt’s bei Simeon Handte: 07473/9579187
URL:https://www.cvjm-ofterdingen.de/wp01/event/vater-kind-lager-2019/
LOCATION:Baden-Württemberg
CATEGORIES:Erwachsene,Essen,Essen & Trinken,Familien,Input,Kids,Kinder
ATTACH;FMTTYPE=image/jpeg:https://www.cvjm-ofterdingen.de/wp01/wp-content/uploads/2019/04/130452-e1555324497612.jpg
END:VEVENT
END:VCALENDAR