BEGIN:VCALENDAR
VERSION:2.0
PRODID:-//CVJM Ofterdingen e. V. - ECPv6.15.18//NONSGML v1.0//EN
CALSCALE:GREGORIAN
METHOD:PUBLISH
X-ORIGINAL-URL:https://www.cvjm-ofterdingen.de/wp01
X-WR-CALDESC:Veranstaltungen für CVJM Ofterdingen e. V.
REFRESH-INTERVAL;VALUE=DURATION:PT1H
X-Robots-Tag:noindex
X-PUBLISHED-TTL:PT1H
BEGIN:VTIMEZONE
TZID:Europe/Berlin
BEGIN:DAYLIGHT
TZOFFSETFROM:+0100
TZOFFSETTO:+0200
TZNAME:CEST
DTSTART:20180325T010000
END:DAYLIGHT
BEGIN:STANDARD
TZOFFSETFROM:+0200
TZOFFSETTO:+0100
TZNAME:CET
DTSTART:20181028T010000
END:STANDARD
BEGIN:DAYLIGHT
TZOFFSETFROM:+0100
TZOFFSETTO:+0200
TZNAME:CEST
DTSTART:20190331T010000
END:DAYLIGHT
BEGIN:STANDARD
TZOFFSETFROM:+0200
TZOFFSETTO:+0100
TZNAME:CET
DTSTART:20191027T010000
END:STANDARD
BEGIN:DAYLIGHT
TZOFFSETFROM:+0100
TZOFFSETTO:+0200
TZNAME:CEST
DTSTART:20200329T010000
END:DAYLIGHT
BEGIN:STANDARD
TZOFFSETFROM:+0200
TZOFFSETTO:+0100
TZNAME:CET
DTSTART:20201025T010000
END:STANDARD
END:VTIMEZONE
BEGIN:VEVENT
DTSTART;TZID=Europe/Berlin:20190501T093000
DTEND;TZID=Europe/Berlin:20190501T160000
DTSTAMP:20260426T002226
CREATED:20190411T152342Z
LAST-MODIFIED:20190415T103852Z
UID:958-1556703000-1556726400@www.cvjm-ofterdingen.de
SUMMARY:1. Mai 2019
DESCRIPTION:Auch dieses Jahr lädt der CVJM Ofterdingen wieder zu allerlei Aktionen am ersten Mai ein!\nWir freuen uns auf Spaß und Gemeinschaft! \n1. Mai 2019 Flyer Download \n 
URL:https://www.cvjm-ofterdingen.de/wp01/event/1-mai-2019/
LOCATION:Dettinger Straße 5/1\, Dettinger Straße 5/1\, Ofterdingen\, Baden Württemberg\, 72131\, Deutschland
CATEGORIES:Andacht,Essen & Trinken,Familien,Geschichte,Input,Jugendliche,Kids,Kinder,Teenager,Teens
ATTACH;FMTTYPE=image/png:https://www.cvjm-ofterdingen.de/wp01/wp-content/uploads/2019/04/1.-Mai-Flyer.png
ORGANIZER;CN="CVJM Ofterdingen e. V.":MAILTO:kontakt@cvjm-ofterdingen.de
END:VEVENT
END:VCALENDAR