BEGIN:VCALENDAR
VERSION:2.0
PRODID:-//CVJM Ofterdingen e. V. - ECPv6.15.18//NONSGML v1.0//EN
CALSCALE:GREGORIAN
METHOD:PUBLISH
X-WR-CALNAME:CVJM Ofterdingen e. V.
X-ORIGINAL-URL:https://www.cvjm-ofterdingen.de/wp01
X-WR-CALDESC:Veranstaltungen für CVJM Ofterdingen e. V.
REFRESH-INTERVAL;VALUE=DURATION:PT1H
X-Robots-Tag:noindex
X-PUBLISHED-TTL:PT1H
BEGIN:VTIMEZONE
TZID:Europe/Berlin
BEGIN:DAYLIGHT
TZOFFSETFROM:+0100
TZOFFSETTO:+0200
TZNAME:CEST
DTSTART:20180325T010000
END:DAYLIGHT
BEGIN:STANDARD
TZOFFSETFROM:+0200
TZOFFSETTO:+0100
TZNAME:CET
DTSTART:20181028T010000
END:STANDARD
BEGIN:DAYLIGHT
TZOFFSETFROM:+0100
TZOFFSETTO:+0200
TZNAME:CEST
DTSTART:20190331T010000
END:DAYLIGHT
BEGIN:STANDARD
TZOFFSETFROM:+0200
TZOFFSETTO:+0100
TZNAME:CET
DTSTART:20191027T010000
END:STANDARD
BEGIN:DAYLIGHT
TZOFFSETFROM:+0100
TZOFFSETTO:+0200
TZNAME:CEST
DTSTART:20200329T010000
END:DAYLIGHT
BEGIN:STANDARD
TZOFFSETFROM:+0200
TZOFFSETTO:+0100
TZNAME:CET
DTSTART:20201025T010000
END:STANDARD
END:VTIMEZONE
BEGIN:VEVENT
DTSTART;TZID=Europe/Berlin:20190316T153000
DTEND;TZID=Europe/Berlin:20190317T153000
DTSTAMP:20260426T031014
CREATED:20181225T233512Z
LAST-MODIFIED:20250419T160458Z
UID:892-1552750200-1552836600@www.cvjm-ofterdingen.de
SUMMARY:CVJM-Landestreffen 2019
DESCRIPTION:Herzliche Einladung zum CVJM-Landestreffen in den Glaspalast nach Sindelfingen! \nDer Samstag (16. März) steht ganz im Zeichen der Jugend und jungen Erwachsenen: \n\nGott erleben. Glauben feiern. Freunde treffen.\nNacht-Gottesdienst.\nNachtschwärmercafé mit Live-Musik.\n\nAm Sonntag (17. März) stehen Familien im Vordergrund: \n\nCafé-Lounge\nFamiliengottesdienst\nFamilien-Mitmach-Konzert\n\nNähere Infos findest du direkt unter www.cvjm-landestreffen.de. \nWir freuen uns auf dich!\nDein CVJM-Team
URL:https://www.cvjm-ofterdingen.de/wp01/event/sos-jugendgottesdienst-oktober-2019/
LOCATION:Glaspalast Sindelfingen
CATEGORIES:CVJM Landesverband e. V.,Erwachsene,Essen,Essen & Trinken,Familien,Gottesdienst,Input,Jugendliche,Kids,Kinder,Lobpreis,Musik,Teenager,Teens,Worship
ATTACH;FMTTYPE=:
END:VEVENT
BEGIN:VEVENT
DTSTART;TZID=Europe/Berlin:20190323T183000
DTEND;TZID=Europe/Berlin:20190323T213000
DTSTAMP:20260426T031014
CREATED:20181225T235501Z
LAST-MODIFIED:20181225T235501Z
UID:915-1553365800-1553376600@www.cvjm-ofterdingen.de
SUMMARY:Vereinsabend - Frühjahr 2019
DESCRIPTION:Vortrag\, Andacht \nAußerdem: Gemeinsames Abendessen/Buffet sowie Zeit zum gemütlichen Besammensein und Reden.
URL:https://www.cvjm-ofterdingen.de/wp01/event/vereinsabend-fruehjahr-2019/
LOCATION:Vereinszimmer der Burghof-Halle (Eingang auf der Rückseite)\, Burggasse 4\, Ofterdingen\, 72131
CATEGORIES:Erwachsene,Essen,Essen & Trinken,Familien,Input,Jugendliche,Musik,Teenager,Teens
ATTACH;FMTTYPE=image/jpeg:https://www.cvjm-ofterdingen.de/wp01/wp-content/uploads/2018/12/Vereinsabend-Gemeinschaftsabend-2.jpg
ORGANIZER;CN="CVJM Ofterdingen e. V.":MAILTO:kontakt@cvjm-ofterdingen.de
END:VEVENT
END:VCALENDAR