BEGIN:VCALENDAR
VERSION:2.0
PRODID:-//CVJM Ofterdingen e. V. - ECPv6.15.18//NONSGML v1.0//EN
CALSCALE:GREGORIAN
METHOD:PUBLISH
X-WR-CALNAME:CVJM Ofterdingen e. V.
X-ORIGINAL-URL:https://www.cvjm-ofterdingen.de/wp01
X-WR-CALDESC:Veranstaltungen für CVJM Ofterdingen e. V.
REFRESH-INTERVAL;VALUE=DURATION:PT1H
X-Robots-Tag:noindex
X-PUBLISHED-TTL:PT1H
BEGIN:VTIMEZONE
TZID:Europe/Berlin
BEGIN:DAYLIGHT
TZOFFSETFROM:+0100
TZOFFSETTO:+0200
TZNAME:CEST
DTSTART:20250330T010000
END:DAYLIGHT
BEGIN:STANDARD
TZOFFSETFROM:+0200
TZOFFSETTO:+0100
TZNAME:CET
DTSTART:20251026T010000
END:STANDARD
BEGIN:DAYLIGHT
TZOFFSETFROM:+0100
TZOFFSETTO:+0200
TZNAME:CEST
DTSTART:20260329T010000
END:DAYLIGHT
BEGIN:STANDARD
TZOFFSETFROM:+0200
TZOFFSETTO:+0100
TZNAME:CET
DTSTART:20261025T010000
END:STANDARD
BEGIN:DAYLIGHT
TZOFFSETFROM:+0100
TZOFFSETTO:+0200
TZNAME:CEST
DTSTART:20270328T010000
END:DAYLIGHT
BEGIN:STANDARD
TZOFFSETFROM:+0200
TZOFFSETTO:+0100
TZNAME:CET
DTSTART:20271031T010000
END:STANDARD
END:VTIMEZONE
BEGIN:VEVENT
DTSTART;TZID=Europe/Berlin:20260110T100000
DTEND;TZID=Europe/Berlin:20260110T130000
DTSTAMP:20260420T161900
CREATED:20251221T153308Z
LAST-MODIFIED:20251221T153308Z
UID:2720-1768039200-1768050000@www.cvjm-ofterdingen.de
SUMMARY:Christbaumsammlung 2026
DESCRIPTION:Wohin mit dem Christbaum nach Weihnachten?\n\nDer CVJM Ofterdingen holt Ihren Baum am 10. Januar 2026 ab 10 Uhr gegen eine Spende von 3\,- Euro ab.\n\nSie unterstützen damit je zur Hälfte die Jugendarbeit des CVJM Ofterdingen und den East Jerusalem YMCA bei seinem Einsatz für Frieden und Hoffnung in Israel/Palästina.\n\nDer East Jerusalem YMCA wurde im Jahr 1948 gegründet – genauer: in einem Zelt im Flüchtlingslager Aqabat Jaber Refugee Camp bei Jericho. Seine Mission ist die Unterstützung von jungen Menschen in Ost-Jerusalem und im gesamten Westjordanland. Kinder aus sozial schwachen Familien\, kriegsversehrte und traumatisierte Jugendliche\, Menschen mit Behinderung – sie alle erfahren beim YMCA Begleitung\, Förderung und neue Hoffnung.\n\nDer East Jerusalem YMCA ist als christlich-ökumenische Organisation tätig. Seine Dienste gelten allen Menschen ungeachtet ihrer ethnischen\, kulturellen oder religiösen Zugehörigkeit.\n\nZu seinen Hauptprogrammen gehören erstens ein Berufsbildungszentrum in Jericho\, in dem jedes Jahr 150 Jugendliche ein Handwerk erlernen und damit in den allermeisten Fällen einen Arbeitsplatz finden können.\n\nAn drei Orten unterhält der YMCA zweitens Jugendzentren\, in Ramallah\, Beit-Sahour und Jerusalem\, in denen junge Menschen selbständig oder mit Unterstützung Sport treiben\, sich künstlerisch ausprobieren oder einfach Zeit in Gemeinschaft verbringen können.\n\nUnd seit 1989 versuchen drittens professionelle Mitarbeitende kriegsversehrte und traumatisierte junge Menschen im Rahmen eines Rehabilitationsprogramms zu begleiten\, zu fördern\, um ihnen auf lange Sicht ein selbstbestimmtes Leben zu ermöglichen.\n\nIn der aktuellen Zeit sind Bewegungseinschränkungen im gesamten Westjordanland\, die wirtschaftliche Not und die quälende Ungewissheit im Blick auf die kommenden Wochen und Monate noch allgegenwärtig. Umso wichtiger sind die Bemühungen des YMCA um Zuversicht\, Hoffnung und den Glauben an Frieden.\n\nJede Spende hilft dabei\, die laufende Arbeit des YMCA am Leben zu erhalten. Und jede Spende ist ein Zeichen der Hoffnung\, das sagt: „Wir hoffen mit Euch gemeinsam auf Heilung\, Zukunft\, Frieden!“\n\nWeitere Infos zum East Jerusalem YMCA:\nhttps://www.ejwue.de/ejw_angebot/palaestina-israel\n\nVielen Dank\, wenn sie schon beim Einkauf eines Baumes an die Christbaumaktion am 10. Januar 2026 denken. Durch die ausgedienten Christbäume sollen viele Segensspuren in unserem Ort und unserer Welt sichtbar werden.
URL:https://www.cvjm-ofterdingen.de/wp01/event/christbaumsammlung-2026/
LOCATION:Ofterdingen\, Ofterdingen\, Baden-Württemberg\, 72131\, Deutschland
CATEGORIES:Christbaumsammlung,Erwachsene,Event,Kids,Kinder,Teenager,Teens
ATTACH;FMTTYPE=image/jpeg:https://www.cvjm-ofterdingen.de/wp01/wp-content/uploads/2025/12/Homepage_Christbaum_2026.jpg
ORGANIZER;CN="CVJM Ofterdingen e. V.":MAILTO:kontakt@cvjm-ofterdingen.de
END:VEVENT
END:VCALENDAR