BEGIN:VCALENDAR
VERSION:2.0
PRODID:-//CVJM Ofterdingen e. V. - ECPv6.15.18//NONSGML v1.0//EN
CALSCALE:GREGORIAN
METHOD:PUBLISH
X-ORIGINAL-URL:https://www.cvjm-ofterdingen.de/wp01
X-WR-CALDESC:Veranstaltungen für CVJM Ofterdingen e. V.
REFRESH-INTERVAL;VALUE=DURATION:PT1H
X-Robots-Tag:noindex
X-PUBLISHED-TTL:PT1H
BEGIN:VTIMEZONE
TZID:Europe/Berlin
BEGIN:DAYLIGHT
TZOFFSETFROM:+0100
TZOFFSETTO:+0200
TZNAME:CEST
DTSTART:20240331T010000
END:DAYLIGHT
BEGIN:STANDARD
TZOFFSETFROM:+0200
TZOFFSETTO:+0100
TZNAME:CET
DTSTART:20241027T010000
END:STANDARD
BEGIN:DAYLIGHT
TZOFFSETFROM:+0100
TZOFFSETTO:+0200
TZNAME:CEST
DTSTART:20250330T010000
END:DAYLIGHT
BEGIN:STANDARD
TZOFFSETFROM:+0200
TZOFFSETTO:+0100
TZNAME:CET
DTSTART:20251026T010000
END:STANDARD
BEGIN:DAYLIGHT
TZOFFSETFROM:+0100
TZOFFSETTO:+0200
TZNAME:CEST
DTSTART:20260329T010000
END:DAYLIGHT
BEGIN:STANDARD
TZOFFSETFROM:+0200
TZOFFSETTO:+0100
TZNAME:CET
DTSTART:20261025T010000
END:STANDARD
END:VTIMEZONE
BEGIN:VEVENT
DTSTART;TZID=Europe/Berlin:20250706T080000
DTEND;TZID=Europe/Berlin:20250706T170000
DTSTAMP:20260420T104013
CREATED:20240929T174937Z
LAST-MODIFIED:20240929T174937Z
UID:2433-1751788800-1751821200@www.cvjm-ofterdingen.de
SUMMARY:Jungschartag in Ofterdingen
DESCRIPTION:2025 findet der Jungschartag in Ofterdingen statt. \nSafe the date!
URL:https://www.cvjm-ofterdingen.de/wp01/event/jungschartag-in-ofterdingen/
CATEGORIES:Andacht,Essen,Essen & Trinken,Event,Familien,Input,Jugendliche,Kids,Kinder,Lobpreis,Musik,Teenager,Teens
END:VEVENT
BEGIN:VEVENT
DTSTART;TZID=Europe/Berlin:20250720T174500
DTEND;TZID=Europe/Berlin:20250720T193000
DTSTAMP:20260420T104013
CREATED:20250123T195551Z
LAST-MODIFIED:20250716T193343Z
UID:2556-1753033500-1753039800@www.cvjm-ofterdingen.de
SUMMARY:SOS-Gottesdienst - Juli 2025
DESCRIPTION:Hallo zusammen\, \nder nächste SOS findet am 20.07.2025 um 18.00 Uhr im Gemeindehaus in Belsen statt. \nBist du neugierig geworden? – Wir freuen uns\, wenn du vorbeikommst! Bring gern noch jemanden mit! Jede Altersgruppe ist herzlich willkommen! \nBis bald\,\nDein SOS-Team
URL:https://www.cvjm-ofterdingen.de/wp01/event/sos-gottesdienst-2025-juli/
LOCATION:ev. Gemeindehaus Belsen\, Sieben-Höfe-Weg 23\, Mössingen-Belsen\, 72116\, Deutschland
CATEGORIES:Andacht,Erwachsene,Essen,Essen & Trinken,Event,Familien,Geschichte,Gottesdienst,Input,Jugendliche,Jugo,Lobpreis,Musik,SOS,SOS-Gottesdienst,Teenager,Teens,Worship
ATTACH;FMTTYPE=image/jpeg:https://www.cvjm-ofterdingen.de/wp01/wp-content/uploads/2025/07/sos_g-scaled.jpeg
ORGANIZER;CN="CVJM Company":MAILTO:kontakt@sosjugo.de
END:VEVENT
BEGIN:VEVENT
DTSTART;TZID=Europe/Berlin:20250725T130000
DTEND;TZID=Europe/Berlin:20250727T170000
DTSTAMP:20260420T104013
CREATED:20241202T220222Z
LAST-MODIFIED:20241202T220222Z
UID:2496-1753448400-1753635600@www.cvjm-ofterdingen.de
SUMMARY:VaKiLa 2025
DESCRIPTION:Save the date. \nAchtung: In der Regel ist die Veranstaltung innerhalb weniger Stunden ausgebucht.\nGgf. rechtzeitig Kontakt mit dem Veranstaltungsteam aufnehmen.
URL:https://www.cvjm-ofterdingen.de/wp01/event/vakila-2025/
CATEGORIES:Andacht,Erwachsene,Essen,Essen & Trinken,Event,Familien,Freizeit,Geschichte,Gottesdienst,Input,Kids,Kinder,Lobpreis,Musik
ORGANIZER;CN="CVJM Ofterdingen e. V.":MAILTO:kontakt@cvjm-ofterdingen.de
END:VEVENT
END:VCALENDAR